{ "currentVersion": 10.91, "serviceDescription": "
Historical map showing roads, transportation, political and cultural features, legend.<\/span><\/p> Digital reproduction of map (60 x 84 cm.) in the Map, Data and GIS Library, Brock University. <\/span><\/p> Relief shown by contours. Contour interval 25 feet.<\/span><\/p> Georeferenced and modified from the \"Canada 2 miles to 1 inch\" map series, \"Ontario, Niagara Peninsula\" sheet by Map, Data and GIS Library, Brock University. <\/span><\/p> <\/p><\/div><\/div><\/div>",
"name": "NiagaraTopos/NiagaraPeninsula1932126720",
"description": " Historical map showing roads, transportation, political and cultural features, legend.<\/span><\/p> Digital reproduction of map (60 x 84 cm.) in the Map, Data and GIS Library, Brock University. <\/span><\/p> Relief shown by contours. Contour interval 25 feet.<\/span><\/p> Georeferenced and modified from the \"Canada 2 miles to 1 inch\" map series, \"Ontario, Niagara Peninsula\" sheet by Map, Data and GIS Library, Brock University. <\/span><\/p> <\/p><\/div><\/div><\/div>",
"extent": {
"xmin": 578804.3514626453,
"ymin": 4741803.213464252,
"xmax": 676894.2821137886,
"ymax": 4796406.17021545,
"spatialReference": {
"wkid": 26917,
"latestWkid": 26917
}
},
"initialExtent": {
"xmin": 578804.3514626453,
"ymin": 4741803.213464252,
"xmax": 676894.2821137886,
"ymax": 4796406.17021545,
"spatialReference": {
"wkid": 26917,
"latestWkid": 26917
}
},
"fullExtent": {
"xmin": 578804.3514626453,
"ymin": 4741803.213464252,
"xmax": 676894.2821137886,
"ymax": 4796406.17021545,
"spatialReference": {
"wkid": 26917,
"latestWkid": 26917
}
},
"hasMultidimensions": false,
"pixelSizeX": 10.760194235535685,
"pixelSizeY": 10.831770829438307,
"datasetFormat": "TIFF",
"uncompressedSize": 137861268,
"blockWidth": 9116,
"blockHeight": 1,
"compressionType": "None",
"bandNames": [
"Band_1",
"Band_2",
"Band_3"
],
"allowCopy": true,
"allowAnalysis": true,
"bandCount": 3,
"pixelType": "U8",
"minPixelSize": 0,
"maxPixelSize": 0,
"copyrightText": "Map, Data & GIS Library, Brock University.",
"serviceDataType": "esriImageServiceDataTypeRGB",
"serviceSourceType": "esriImageServiceSourceTypeDataset",
"minValues": [
56,
75,
27
],
"maxValues": [
255,
255,
255
],
"meanValues": [
210.36219588464,
215.9066468908,
194.02053594713
],
"stdvValues": [
25.203388964322,
22.571777074988,
26.399213418197
],
"objectIdField": "",
"fields": [],
"capabilities": "Mensuration,Image,Metadata",
"defaultMosaicMethod": "Center",
"allowedMosaicMethods": "",
"sortField": "",
"sortValue": null,
"sortAscending": true,
"mosaicOperator": "First",
"defaultCompressionQuality": 75,
"defaultResamplingMethod": "Bilinear",
"maxImageHeight": 4100,
"maxImageWidth": 15000,
"allowRasterFunction": true,
"rasterFunctionInfos": [
{
"name": "None",
"description": "",
"help": ""
}
],
"rasterTypeInfos": [
{
"name": "Raster Dataset",
"description": "Supports all ArcGIS Raster Datasets",
"help": ""
}
],
"mensurationCapabilities": "Basic",
"hasHistograms": true,
"hasColormap": false,
"hasRasterAttributeTable": false,
"minScale": 0,
"maxScale": 0,
"exportTilesAllowed": false,
"supportsStatistics": false,
"supportsAdvancedQueries": false,
"editFieldsInfo": null,
"ownershipBasedAccessControlForRasters": null,
"allowComputeTiePoints": false,
"useStandardizedQueries": true,
"advancedQueryCapabilities": {
"useStandardizedQueries": true,
"supportsStatistics": false,
"supportsOrderBy": false,
"supportsDistinct": false,
"supportsPagination": false
},
"spatialReference": {
"wkid": 26917,
"latestWkid": 26917
}
}