{ "currentVersion": 10.91, "serviceDescription": "
Historical map showing the First and Second Welland Canal with the Third Welland Canal's proposed new harbor, inner harbor, outer harbor, lighthouse and bridge.<\/SPAN><\/P> Scale [ca. 1:1,920]<\/SPAN><\/P> Relief shown by shading and soundings.<\/SPAN><\/P> Map date: 1845<\/SPAN><\/P> Digital reproduction of map in the Public Archives of Canada. National Map Collection. Library and Archives Canada.<\/SPAN><\/P> Georeferenced and modified from NMC Map number 4320 by Map, Data and GIS Library, Brock University. <\/SPAN><\/P> <\/P><\/DIV><\/DIV><\/DIV>",
"name": "PortDalhousie1845NMC4320_1",
"description": " Historical map showing the First and Second Welland Canal with the Third Welland Canal's proposed new harbor, inner harbor, outer harbor, lighthouse and bridge.<\/SPAN><\/P> Scale [ca. 1:1,920]<\/SPAN><\/P> Relief shown by shading and soundings.<\/SPAN><\/P> Map date: 1845<\/SPAN><\/P> Digital reproduction of map in the Public Archives of Canada. National Map Collection. Library and Archives Canada.<\/SPAN><\/P> Georeferenced and modified from NMC Map number 4320 by Map, Data and GIS Library, Brock University. <\/SPAN><\/P> <\/P><\/DIV><\/DIV><\/DIV>",
"extent": {
"xmin": 640741.1594425432,
"ymin": 4784916.272924788,
"xmax": 641732.9080325431,
"ymax": 4786161.324529788,
"spatialReference": {
"wkid": 26917,
"latestWkid": 26917
}
},
"initialExtent": {
"xmin": 640741.1594425432,
"ymin": 4784916.272924788,
"xmax": 641732.9080325431,
"ymax": 4786161.324529788,
"spatialReference": {
"wkid": 26917,
"latestWkid": 26917
}
},
"fullExtent": {
"xmin": 640741.1594425432,
"ymin": 4784916.272924788,
"xmax": 641732.9080325431,
"ymax": 4786161.324529788,
"spatialReference": {
"wkid": 26917,
"latestWkid": 26917
}
},
"hasMultidimensions": false,
"pixelSizeX": 0.1703449999999955,
"pixelSizeY": 0.17034500000002198,
"datasetFormat": "TIFF",
"uncompressedSize": 85105996,
"blockWidth": 128,
"blockHeight": 128,
"compressionType": "None",
"bandNames": [
"Band_1"
],
"allowCopy": true,
"allowAnalysis": true,
"bandCount": 1,
"noDataValue": 256,
"noDataValues": [
256
],
"pixelType": "U16",
"minPixelSize": 0,
"maxPixelSize": 0,
"copyrightText": "[\"Drafted\"]",
"serviceDataType": "esriImageServiceDataTypeGeneric",
"serviceSourceType": "esriImageServiceSourceTypeDataset",
"minValues": [
6
],
"maxValues": [
255
],
"meanValues": [
206.31495587237
],
"stdvValues": [
39.640184933006
],
"objectIdField": "",
"fields": [],
"capabilities": "Image,Metadata,Mensuration",
"defaultMosaicMethod": "Center",
"allowedMosaicMethods": "",
"sortField": "",
"sortValue": null,
"sortAscending": true,
"mosaicOperator": "First",
"defaultCompressionQuality": 75,
"defaultResamplingMethod": "Bilinear",
"maxImageHeight": 4100,
"maxImageWidth": 15000,
"allowRasterFunction": true,
"rasterFunctionInfos": [
{
"name": "None",
"description": "",
"help": ""
}
],
"rasterTypeInfos": [
{
"name": "Raster Dataset",
"description": "Supports all ArcGIS Raster Datasets",
"help": ""
}
],
"mensurationCapabilities": "Basic",
"hasHistograms": true,
"hasColormap": false,
"hasRasterAttributeTable": false,
"minScale": 0,
"maxScale": 0,
"exportTilesAllowed": false,
"supportsStatistics": false,
"supportsAdvancedQueries": false,
"editFieldsInfo": null,
"ownershipBasedAccessControlForRasters": null,
"allowComputeTiePoints": false,
"useStandardizedQueries": true,
"advancedQueryCapabilities": {
"useStandardizedQueries": true,
"supportsStatistics": false,
"supportsOrderBy": false,
"supportsDistinct": false,
"supportsPagination": false
},
"spatialReference": {
"wkid": 26917,
"latestWkid": 26917
}
}