{
 "currentVersion": 10.91,
 "serviceDescription": "RemoteSensing/26JUL16143444_M2AS_050546146010_01_P001_TIF",
 "name": "RemoteSensing/26JUL16143444_M2AS_050546146010_01_P001_TIF",
 "description": "",
 "extent": {
  "xmin": 649836,
  "ymin": 4769938.8,
  "xmax": 654324,
  "ymax": 4780472.399999999,
  "spatialReference": {
   "wkid": 32617,
   "latestWkid": 32617
  }
 },
 "initialExtent": {
  "xmin": 649836,
  "ymin": 4769938.8,
  "xmax": 654324,
  "ymax": 4780472.399999999,
  "spatialReference": {
   "wkid": 32617,
   "latestWkid": 32617
  }
 },
 "fullExtent": {
  "xmin": 649836,
  "ymin": 4769938.8,
  "xmax": 654324,
  "ymax": 4780472.399999999,
  "spatialReference": {
   "wkid": 32617,
   "latestWkid": 32617
  }
 },
 "hasMultidimensions": false,
 "pixelSizeX": 1.2,
 "pixelSizeY": 1.1999999999999575,
 "datasetFormat": "TIFF",
 "uncompressedSize": 525275520,
 "blockWidth": 3740,
 "blockHeight": 140,
 "compressionType": "None",
 "bandNames": [
  "Band_1",
  "Band_2",
  "Band_3",
  "Band_4",
  "Band_5",
  "Band_6",
  "Band_7",
  "Band_8"
 ],
 "allowCopy": true,
 "allowAnalysis": true,
 "bandCount": 8,
 "pixelType": "U16",
 "minPixelSize": 0,
 "maxPixelSize": 0,
 "copyrightText": "",
 "serviceDataType": "esriImageServiceDataTypeGeneric",
 "serviceSourceType": "esriImageServiceSourceTypeDataset",
 "minValues": [],
 "maxValues": [],
 "meanValues": [],
 "stdvValues": [],
 "objectIdField": "",
 "fields": [],
 "capabilities": "Image,Metadata,Mensuration",
 "defaultMosaicMethod": "Center",
 "allowedMosaicMethods": "",
 "sortField": "",
 "sortValue": null,
 "sortAscending": true,
 "mosaicOperator": "First",
 "defaultCompressionQuality": 75,
 "defaultResamplingMethod": "Bilinear",
 "maxImageHeight": 4100,
 "maxImageWidth": 15000,
 "allowRasterFunction": true,
 "rasterFunctionInfos": [
  {
   "name": "None",
   "description": "",
   "help": ""
  }
 ],
 "rasterTypeInfos": [
  {
   "name": "Raster Dataset",
   "description": "Supports all ArcGIS Raster Datasets",
   "help": ""
  }
 ],
 "mensurationCapabilities": "Basic,Base-Top Height",
 "hasHistograms": false,
 "hasColormap": false,
 "hasRasterAttributeTable": false,
 "minScale": 0,
 "maxScale": 0,
 "exportTilesAllowed": false,
 "supportsStatistics": false,
 "supportsAdvancedQueries": false,
 "editFieldsInfo": null,
 "ownershipBasedAccessControlForRasters": null,
 "allowComputeTiePoints": false,
 "useStandardizedQueries": true,
 "advancedQueryCapabilities": {
  "useStandardizedQueries": true,
  "supportsStatistics": false,
  "supportsOrderBy": false,
  "supportsDistinct": false,
  "supportsPagination": false
 },
 "spatialReference": {
  "wkid": 32617,
  "latestWkid": 32617
 }
}
