{
 "currentVersion": 10.91,
 "serviceDescription": "RemoteSensing/PHR1B_MS_202106241623403_ORT_6207431101_2_tif",
 "name": "RemoteSensing/PHR1B_MS_202106241623403_ORT_6207431101_2_tif",
 "description": "",
 "extent": {
  "xmin": 619782,
  "ymin": 4770924,
  "xmax": 624500,
  "ymax": 4784976,
  "spatialReference": {
   "wkid": 32617,
   "latestWkid": 32617
  }
 },
 "initialExtent": {
  "xmin": 619782,
  "ymin": 4770924,
  "xmax": 624500,
  "ymax": 4784976,
  "spatialReference": {
   "wkid": 32617,
   "latestWkid": 32617
  }
 },
 "fullExtent": {
  "xmin": 619782,
  "ymin": 4770924,
  "xmax": 624500,
  "ymax": 4784976,
  "spatialReference": {
   "wkid": 32617,
   "latestWkid": 32617
  }
 },
 "hasMultidimensions": false,
 "pixelSizeX": 2,
 "pixelSizeY": 2,
 "datasetFormat": "TIFF",
 "uncompressedSize": 132594672,
 "blockWidth": 256,
 "blockHeight": 256,
 "compressionType": "None",
 "bandNames": [
  "Pleiades Red (0.59 - 0.73) um",
  "Pleiades Green (0.49 - 0.62) um",
  "Pleiades Blue (0.43 - 0.55) um",
  "Pleiades NIR (0.74 - 0.95) um"
 ],
 "allowCopy": true,
 "allowAnalysis": true,
 "bandCount": 4,
 "noDataValue": 0,
 "noDataValues": [
  0,
  0,
  0,
  0
 ],
 "pixelType": "U16",
 "minPixelSize": 0,
 "maxPixelSize": 0,
 "copyrightText": "",
 "serviceDataType": "esriImageServiceDataTypeGeneric",
 "serviceSourceType": "esriImageServiceSourceTypeDataset",
 "minValues": [
  1,
  1,
  1,
  1
 ],
 "maxValues": [
  10801,
  11090,
  10187,
  10123
 ],
 "meanValues": [
  877.97607159827,
  954.0113221108,
  756.90898300424,
  2780.2148587351
 ],
 "stdvValues": [
  575.81668672795,
  487.87614858921,
  434.54753966749,
  870.22366282549
 ],
 "objectIdField": "",
 "fields": [],
 "capabilities": "Image,Metadata,Mensuration",
 "defaultMosaicMethod": "Center",
 "allowedMosaicMethods": "",
 "sortField": "",
 "sortValue": null,
 "sortAscending": true,
 "mosaicOperator": "First",
 "defaultCompressionQuality": 75,
 "defaultResamplingMethod": "Bilinear",
 "maxImageHeight": 4100,
 "maxImageWidth": 15000,
 "allowRasterFunction": true,
 "rasterFunctionInfos": [
  {
   "name": "None",
   "description": "",
   "help": ""
  }
 ],
 "rasterTypeInfos": [
  {
   "name": "Raster Dataset",
   "description": "Supports all ArcGIS Raster Datasets",
   "help": ""
  }
 ],
 "mensurationCapabilities": "Basic",
 "hasHistograms": true,
 "hasColormap": false,
 "hasRasterAttributeTable": false,
 "minScale": 0,
 "maxScale": 0,
 "exportTilesAllowed": false,
 "supportsStatistics": false,
 "supportsAdvancedQueries": false,
 "editFieldsInfo": null,
 "ownershipBasedAccessControlForRasters": null,
 "allowComputeTiePoints": false,
 "useStandardizedQueries": true,
 "advancedQueryCapabilities": {
  "useStandardizedQueries": true,
  "supportsStatistics": false,
  "supportsOrderBy": false,
  "supportsDistinct": false,
  "supportsPagination": false
 },
 "spatialReference": {
  "wkid": 32617,
  "latestWkid": 32617
 }
}
