{
 "currentVersion": 10.91,
 "serviceDescription": "RemoteSensing/PHR1B_MS_202106241624073_ORT_6207430101_2_tif",
 "name": "RemoteSensing/PHR1B_MS_202106241624073_ORT_6207430101_2_tif",
 "description": "",
 "extent": {
  "xmin": 620852,
  "ymin": 4770918,
  "xmax": 638458,
  "ymax": 4785252,
  "spatialReference": {
   "wkid": 32617,
   "latestWkid": 32617
  }
 },
 "initialExtent": {
  "xmin": 620852,
  "ymin": 4770918,
  "xmax": 638458,
  "ymax": 4785252,
  "spatialReference": {
   "wkid": 32617,
   "latestWkid": 32617
  }
 },
 "fullExtent": {
  "xmin": 620852,
  "ymin": 4770918,
  "xmax": 638458,
  "ymax": 4785252,
  "spatialReference": {
   "wkid": 32617,
   "latestWkid": 32617
  }
 },
 "hasMultidimensions": false,
 "pixelSizeX": 2,
 "pixelSizeY": 2,
 "datasetFormat": "TIFF",
 "uncompressedSize": 504728808,
 "blockWidth": 256,
 "blockHeight": 256,
 "compressionType": "None",
 "bandNames": [
  "Pleiades Red (0.59 - 0.73) um",
  "Pleiades Green (0.49 - 0.62) um",
  "Pleiades Blue (0.43 - 0.55) um",
  "Pleiades NIR (0.74 - 0.95) um"
 ],
 "allowCopy": true,
 "allowAnalysis": true,
 "bandCount": 4,
 "noDataValue": 0,
 "noDataValues": [
  0,
  0,
  0,
  0
 ],
 "pixelType": "U16",
 "minPixelSize": 0,
 "maxPixelSize": 0,
 "copyrightText": "",
 "serviceDataType": "esriImageServiceDataTypeGeneric",
 "serviceSourceType": "esriImageServiceSourceTypeDataset",
 "minValues": [
  1,
  1,
  1,
  1
 ],
 "maxValues": [
  11070,
  10803,
  9891,
  10356
 ],
 "meanValues": [
  861.13479685961,
  951.33259565898,
  742.71983109528,
  2905.7857329002
 ],
 "stdvValues": [
  523.11198011063,
  416.1082347104,
  366.18471344818,
  1019.9293017825
 ],
 "objectIdField": "",
 "fields": [],
 "capabilities": "Image,Metadata,Mensuration",
 "defaultMosaicMethod": "Center",
 "allowedMosaicMethods": "",
 "sortField": "",
 "sortValue": null,
 "sortAscending": true,
 "mosaicOperator": "First",
 "defaultCompressionQuality": 75,
 "defaultResamplingMethod": "Bilinear",
 "maxImageHeight": 4100,
 "maxImageWidth": 15000,
 "allowRasterFunction": true,
 "rasterFunctionInfos": [
  {
   "name": "None",
   "description": "",
   "help": ""
  }
 ],
 "rasterTypeInfos": [
  {
   "name": "Raster Dataset",
   "description": "Supports all ArcGIS Raster Datasets",
   "help": ""
  }
 ],
 "mensurationCapabilities": "Basic",
 "hasHistograms": true,
 "hasColormap": false,
 "hasRasterAttributeTable": false,
 "minScale": 0,
 "maxScale": 0,
 "exportTilesAllowed": false,
 "supportsStatistics": false,
 "supportsAdvancedQueries": false,
 "editFieldsInfo": null,
 "ownershipBasedAccessControlForRasters": null,
 "allowComputeTiePoints": false,
 "useStandardizedQueries": true,
 "advancedQueryCapabilities": {
  "useStandardizedQueries": true,
  "supportsStatistics": false,
  "supportsOrderBy": false,
  "supportsDistinct": false,
  "supportsPagination": false
 },
 "spatialReference": {
  "wkid": 32617,
  "latestWkid": 32617
 }
}