{
 "currentVersion": 10.91,
 "serviceDescription": "RemoteSensing/PleiadesOrtho2021",
 "name": "RemoteSensing/PleiadesOrtho2021",
 "description": "",
 "extent": {
  "xmin": 619782,
  "ymin": 4770918,
  "xmax": 638458,
  "ymax": 4785252,
  "spatialReference": {
   "wkid": 32617,
   "latestWkid": 32617
  }
 },
 "initialExtent": {
  "xmin": 619782,
  "ymin": 4770918,
  "xmax": 638458,
  "ymax": 4785252,
  "spatialReference": {
   "wkid": 32617,
   "latestWkid": 32617
  }
 },
 "fullExtent": {
  "xmin": 619782,
  "ymin": 4770918,
  "xmax": 638458,
  "ymax": 4785252,
  "spatialReference": {
   "wkid": 32617,
   "latestWkid": 32617
  }
 },
 "hasMultidimensions": false,
 "pixelSizeX": 2,
 "pixelSizeY": 2,
 "datasetFormat": "AMD",
 "uncompressedSize": 535403568,
 "blockWidth": 2048,
 "blockHeight": 256,
 "compressionType": "None",
 "bandNames": [
  "Blue",
  "Green",
  "Red",
  "NearInfrared"
 ],
 "allowCopy": true,
 "allowAnalysis": true,
 "bandCount": 4,
 "pixelType": "U16",
 "minPixelSize": 0,
 "maxPixelSize": 0,
 "copyrightText": "",
 "serviceDataType": "esriImageServiceDataTypeGeneric",
 "serviceSourceType": "esriImageServiceSourceTypeMosaicDataset",
 "minValues": [
  171,
  314,
  300,
  177
 ],
 "maxValues": [
  8958,
  8963,
  8202,
  8583
 ],
 "meanValues": [
  859.3885511405762,
  945.8011249859659,
  742.4151514185927,
  2873.3486971476314
 ],
 "stdvValues": [
  485.9689984773027,
  390.68584454033845,
  346.91369904434583,
  903.0572675376284
 ],
 "objectIdField": "OBJECTID",
 "fields": [
  {
   "name": "OBJECTID",
   "type": "esriFieldTypeOID",
   "alias": "OBJECTID",
   "domain": null
  },
  {
   "name": "Shape",
   "type": "esriFieldTypeGeometry",
   "alias": "Shape",
   "domain": null
  },
  {
   "name": "Name",
   "type": "esriFieldTypeString",
   "alias": "Name",
   "domain": null,
   "length": 200
  },
  {
   "name": "MinPS",
   "type": "esriFieldTypeDouble",
   "alias": "MinPS",
   "domain": null
  },
  {
   "name": "MaxPS",
   "type": "esriFieldTypeDouble",
   "alias": "MaxPS",
   "domain": null
  },
  {
   "name": "LowPS",
   "type": "esriFieldTypeDouble",
   "alias": "LowPS",
   "domain": null
  },
  {
   "name": "HighPS",
   "type": "esriFieldTypeDouble",
   "alias": "HighPS",
   "domain": null
  },
  {
   "name": "Category",
   "type": "esriFieldTypeInteger",
   "alias": "Category",
   "domain": {
    "type": "codedValue",
    "name": "MosaicCatalogItemCategoryDomain",
    "description": "Catalog item categories.",
    "codedValues": [
     {
      "name": "Unknown",
      "code": 0
     },
     {
      "name": "Primary",
      "code": 1
     },
     {
      "name": "Overview",
      "code": 2
     },
     {
      "name": "Unprocessed Overview",
      "code": 3
     },
     {
      "name": "Partial Overview",
      "code": 4
     },
     {
      "name": "Inactive",
      "code": 5
     },
     {
      "name": "Uploaded",
      "code": 253
     },
     {
      "name": "Incomplete",
      "code": 254
     },
     {
      "name": "Custom",
      "code": 255
     }
    ],
    "mergePolicy": "esriMPTDefaultValue",
    "splitPolicy": "esriSPTDefaultValue"
   }
  },
  {
   "name": "Tag",
   "type": "esriFieldTypeString",
   "alias": "Tag",
   "domain": null,
   "length": 100
  },
  {
   "name": "GroupName",
   "type": "esriFieldTypeString",
   "alias": "GroupName",
   "domain": null,
   "length": 100
  },
  {
   "name": "ProductName",
   "type": "esriFieldTypeString",
   "alias": "ProductName",
   "domain": null,
   "length": 100
  },
  {
   "name": "CenterX",
   "type": "esriFieldTypeDouble",
   "alias": "CenterX",
   "domain": null
  },
  {
   "name": "CenterY",
   "type": "esriFieldTypeDouble",
   "alias": "CenterY",
   "domain": null
  },
  {
   "name": "ZOrder",
   "type": "esriFieldTypeInteger",
   "alias": "ZOrder",
   "domain": null
  },
  {
   "name": "Shape_Length",
   "type": "esriFieldTypeDouble",
   "alias": "Shape_Length",
   "domain": null
  },
  {
   "name": "Shape_Area",
   "type": "esriFieldTypeDouble",
   "alias": "Shape_Area",
   "domain": null
  }
 ],
 "capabilities": "Image,Metadata,Catalog",
 "defaultMosaicMethod": "Northwest",
 "allowedMosaicMethods": "NorthWest,Center,LockRaster,ByAttribute,Nadir,Viewpoint,Seamline,None",
 "sortField": "",
 "sortValue": null,
 "sortAscending": true,
 "mosaicOperator": "First",
 "maxDownloadSizeLimit": 2048,
 "defaultCompressionQuality": 75,
 "defaultResamplingMethod": "Bilinear",
 "maxImageHeight": 4100,
 "maxImageWidth": 15000,
 "maxRecordCount": 1000,
 "maxDownloadImageCount": 20,
 "maxMosaicImageCount": 20,
 "allowRasterFunction": true,
 "rasterFunctionInfos": [
  {
   "name": "None",
   "description": "",
   "help": ""
  }
 ],
 "rasterTypeInfos": [
  {
   "name": "Raster Dataset",
   "description": "Supports all ArcGIS Raster Datasets",
   "help": ""
  }
 ],
 "mensurationCapabilities": "None",
 "hasHistograms": true,
 "hasColormap": false,
 "hasRasterAttributeTable": false,
 "minScale": 0,
 "maxScale": 0,
 "exportTilesAllowed": false,
 "supportsStatistics": true,
 "supportsAdvancedQueries": true,
 "editFieldsInfo": null,
 "ownershipBasedAccessControlForRasters": null,
 "allowComputeTiePoints": false,
 "useStandardizedQueries": true,
 "advancedQueryCapabilities": {
  "useStandardizedQueries": true,
  "supportsStatistics": true,
  "supportsOrderBy": true,
  "supportsDistinct": true,
  "supportsPagination": true
 },
 "spatialReference": {
  "wkid": 32617,
  "latestWkid": 32617
 }
}
