{
 "currentVersion": 10.91,
 "serviceDescription": "RemoteSensing/Thorold_20260716_30cm_RGB_8bit_tif",
 "name": "RemoteSensing/Thorold_20260716_30cm_RGB_8bit_tif",
 "description": "",
 "extent": {
  "xmin": 641130.3,
  "ymin": 4769756.7,
  "xmax": 654329.1000000001,
  "ymax": 4780467.9,
  "spatialReference": {
   "wkid": 32617,
   "latestWkid": 32617
  }
 },
 "initialExtent": {
  "xmin": 641130.3,
  "ymin": 4769756.7,
  "xmax": 654329.1000000001,
  "ymax": 4780467.9,
  "spatialReference": {
   "wkid": 32617,
   "latestWkid": 32617
  }
 },
 "fullExtent": {
  "xmin": 641130.3,
  "ymin": 4769756.7,
  "xmax": 654329.1000000001,
  "ymax": 4780467.9,
  "spatialReference": {
   "wkid": 32617,
   "latestWkid": 32617
  }
 },
 "hasMultidimensions": false,
 "pixelSizeX": 0.30000000000000104,
 "pixelSizeY": 0.3000000000000052,
 "datasetFormat": "TIFF",
 "uncompressedSize": 4712499552,
 "blockWidth": 256,
 "blockHeight": 256,
 "compressionType": "None",
 "bandNames": [
  "Maxar-Legion Red (0.630 - 0.690) um - rescaled FUNC=POW0.55, RANGE=0,255",
  "Maxar-Legion Green (0.510 - 0.580) um - rescaled FUNC=POW0.55, RANGE=0,255",
  "Maxar-Legion Blue (0.450 - 0.510) um - rescaled FUNC=POW0.55, RANGE=0,255"
 ],
 "allowCopy": true,
 "allowAnalysis": true,
 "bandCount": 3,
 "noDataValue": 0,
 "noDataValues": [
  0,
  0,
  0
 ],
 "pixelType": "U8",
 "minPixelSize": 0,
 "maxPixelSize": 0,
 "copyrightText": "",
 "serviceDataType": "esriImageServiceDataTypeRGB",
 "serviceSourceType": "esriImageServiceSourceTypeDataset",
 "minValues": [
  1,
  1,
  1
 ],
 "maxValues": [
  255,
  255,
  255
 ],
 "meanValues": [
  78.612240890781,
  91.025921117441,
  82.164807852079
 ],
 "stdvValues": [
  29.016179112038,
  24.868237897678,
  23.847063849515
 ],
 "objectIdField": "",
 "fields": [],
 "capabilities": "Image,Metadata,Mensuration",
 "defaultMosaicMethod": "Center",
 "allowedMosaicMethods": "",
 "sortField": "",
 "sortValue": null,
 "sortAscending": true,
 "mosaicOperator": "First",
 "defaultCompressionQuality": 75,
 "defaultResamplingMethod": "Bilinear",
 "maxImageHeight": 4100,
 "maxImageWidth": 15000,
 "allowRasterFunction": true,
 "rasterFunctionInfos": [
  {
   "name": "None",
   "description": "",
   "help": ""
  }
 ],
 "rasterTypeInfos": [
  {
   "name": "Raster Dataset",
   "description": "Supports all ArcGIS Raster Datasets",
   "help": ""
  }
 ],
 "mensurationCapabilities": "Basic",
 "hasHistograms": true,
 "hasColormap": false,
 "hasRasterAttributeTable": false,
 "minScale": 0,
 "maxScale": 0,
 "exportTilesAllowed": false,
 "supportsStatistics": false,
 "supportsAdvancedQueries": false,
 "editFieldsInfo": null,
 "ownershipBasedAccessControlForRasters": null,
 "allowComputeTiePoints": false,
 "useStandardizedQueries": true,
 "advancedQueryCapabilities": {
  "useStandardizedQueries": true,
  "supportsStatistics": false,
  "supportsOrderBy": false,
  "supportsDistinct": false,
  "supportsPagination": false
 },
 "spatialReference": {
  "wkid": 32617,
  "latestWkid": 32617
 }
}
