{
 "currentVersion": 10.91,
 "serviceDescription": "RemoteSensing/Thorold_LG4_26JUL16_MS_P001_tif",
 "name": "RemoteSensing/Thorold_LG4_26JUL16_MS_P001_tif",
 "description": "",
 "extent": {
  "xmin": 649833.6,
  "ymin": 4769940,
  "xmax": 654330,
  "ymax": 4780468.8,
  "spatialReference": {
   "wkid": 32617,
   "latestWkid": 32617
  }
 },
 "initialExtent": {
  "xmin": 649833.6,
  "ymin": 4769940,
  "xmax": 654330,
  "ymax": 4780468.8,
  "spatialReference": {
   "wkid": 32617,
   "latestWkid": 32617
  }
 },
 "fullExtent": {
  "xmin": 649833.6,
  "ymin": 4769940,
  "xmax": 654330,
  "ymax": 4780468.8,
  "spatialReference": {
   "wkid": 32617,
   "latestWkid": 32617
  }
 },
 "hasMultidimensions": false,
 "pixelSizeX": 1.2000000000000062,
 "pixelSizeY": 1.1999999999999789,
 "datasetFormat": "TIFF",
 "uncompressedSize": 526018848,
 "blockWidth": 256,
 "blockHeight": 256,
 "compressionType": "None",
 "bandNames": [
  "Maxar-Legion Coastal (0.400 - 0.450) um",
  "Maxar-Legion Blue (0.450 - 0.510) um",
  "Maxar-Legion Green (0.510 - 0.580) um",
  "Maxar-Legion Yellow (0.585 - 0.625) um",
  "Maxar-Legion Red (0.630 - 0.690) um",
  "Maxar-Legion Red Edge (0.695 - 0.715) um",
  "Maxar-Legion Red Edge2 (0.730 - 0.750) um",
  "Maxar-Legion NIR (0.770 - 0.895) um"
 ],
 "allowCopy": true,
 "allowAnalysis": true,
 "bandCount": 8,
 "noDataValue": 0,
 "noDataValues": [
  0,
  0,
  0,
  0,
  0,
  0,
  0,
  0
 ],
 "pixelType": "U16",
 "minPixelSize": 0,
 "maxPixelSize": 0,
 "copyrightText": "",
 "serviceDataType": "esriImageServiceDataTypeGeneric",
 "serviceSourceType": "esriImageServiceSourceTypeDataset",
 "minValues": [
  734,
  1,
  1,
  1,
  1,
  1,
  1,
  1
 ],
 "maxValues": [
  12962,
  18691,
  19446,
  19179,
  21082,
  20811,
  20351,
  19837
 ],
 "meanValues": [
  1454.2530942422,
  914.5632247175,
  1473.070056001,
  1436.7933024962,
  1283.5550093157,
  1930.042786174,
  4976.3861063653,
  5740.614966648
 ],
 "stdvValues": [
  310.56689093573,
  410.44745982391,
  531.82358955545,
  724.36235420151,
  870.5762396217,
  845.22486417862,
  1640.8155231645,
  2251.7873423847
 ],
 "objectIdField": "",
 "fields": [],
 "capabilities": "Image,Metadata,Mensuration",
 "defaultMosaicMethod": "Center",
 "allowedMosaicMethods": "",
 "sortField": "",
 "sortValue": null,
 "sortAscending": true,
 "mosaicOperator": "First",
 "defaultCompressionQuality": 75,
 "defaultResamplingMethod": "Bilinear",
 "maxImageHeight": 4100,
 "maxImageWidth": 15000,
 "allowRasterFunction": true,
 "rasterFunctionInfos": [
  {
   "name": "None",
   "description": "",
   "help": ""
  }
 ],
 "rasterTypeInfos": [
  {
   "name": "Raster Dataset",
   "description": "Supports all ArcGIS Raster Datasets",
   "help": ""
  }
 ],
 "mensurationCapabilities": "Basic",
 "hasHistograms": true,
 "hasColormap": false,
 "hasRasterAttributeTable": false,
 "minScale": 0,
 "maxScale": 0,
 "exportTilesAllowed": false,
 "supportsStatistics": false,
 "supportsAdvancedQueries": false,
 "editFieldsInfo": null,
 "ownershipBasedAccessControlForRasters": null,
 "allowComputeTiePoints": false,
 "useStandardizedQueries": true,
 "advancedQueryCapabilities": {
  "useStandardizedQueries": true,
  "supportsStatistics": false,
  "supportsOrderBy": false,
  "supportsDistinct": false,
  "supportsPagination": false
 },
 "spatialReference": {
  "wkid": 32617,
  "latestWkid": 32617
 }
}
