{
 "currentVersion": 10.91,
 "serviceDescription": "Overview\nThis Image Service provides a single raster dataset of multispectral aerial imagery for the Thorold area in southern Ontario. It is delivered as a TIFF dataset with 8 bands, U16 pixel values, and 1.2 meter pixel size, covering a local area around Thorold and Niagara Falls in UTM Zone 17N. The service supports image, metadata, and mensuration access, with copying and analysis enabled.\n\nThe imagery contains continuous raster values and supports basic measurements and raster analysis workflows.\n\nBand Characteristics\nThe dataset contains 8 spectral bands from visible through near infrared wavelengths.\n\nCoastal (0.400 - 0.450 µm)\nBlue (0.450 - 0.510 µm)\nGreen (0.510 - 0.580 µm)\nYellow (0.585 - 0.625 µm)\nRed (0.630 - 0.690 µm)\nRed Edge (0.695 - 0.715 µm)\nRed Edge2 (0.730 - 0.750 µm)\nNear Infrared (0.770 - 0.895 µm)\nBand value ranges are recorded from 1 to 22,672 across the service. Mean values range from 864.21 to 5,671.69, with standard deviations from 287.99 to 2,256.76.\n\nRaster Properties\nPixel Type: U16\nPixel Size: 1.2 by 1.2 meters\nDataset Format: TIFF\nCompression: None\nResampling Method: Bilinear\nNoData Value: 0\nTile Size: 256 by 256\nMaximum Image Size: 15000 by 4100 pixels\nHistogram Availability: Yes\nRaster Functions: None\nThe service is a dataset-based image source with basic mensuration capabilities and raster analysis support. Query operations use standardized queries.\n\nGeographic Coverage\nThe imagery covers a local area in southern Ontario, centered on Thorold and nearby communities.\n\nSpatial Reference: UTM Zone 17N, EPSG 32617\nUse Cases\nThis service supports viewing, measuring, and analyzing multispectral imagery for local area mapping and interpretation. Users can export imagery, inspect metadata, and perform basic measurements through the service interface.",
 "name": "RemoteSensing/Thorold_LG4_26JUL16_MS_P002_tif",
 "description": "Overview\nThis Image Service provides a single raster dataset of multispectral aerial imagery for the Thorold area in southern Ontario. It is delivered as a TIFF dataset with 8 bands, U16 pixel values, and 1.2 meter pixel size, covering a local area around Thorold and Niagara Falls in UTM Zone 17N. The service supports image, metadata, and mensuration access, with copying and analysis enabled.\n\nThe imagery contains continuous raster values and supports basic measurements and raster analysis workflows.\n\nBand Characteristics\nThe dataset contains 8 spectral bands from visible through near infrared wavelengths.\n\nCoastal (0.400 - 0.450 µm)\nBlue (0.450 - 0.510 µm)\nGreen (0.510 - 0.580 µm)\nYellow (0.585 - 0.625 µm)\nRed (0.630 - 0.690 µm)\nRed Edge (0.695 - 0.715 µm)\nRed Edge2 (0.730 - 0.750 µm)\nNear Infrared (0.770 - 0.895 µm)\nBand value ranges are recorded from 1 to 22,672 across the service. Mean values range from 864.21 to 5,671.69, with standard deviations from 287.99 to 2,256.76.\n\nRaster Properties\nPixel Type: U16\nPixel Size: 1.2 by 1.2 meters\nDataset Format: TIFF\nCompression: None\nResampling Method: Bilinear\nNoData Value: 0\nTile Size: 256 by 256\nMaximum Image Size: 15000 by 4100 pixels\nHistogram Availability: Yes\nRaster Functions: None\nThe service is a dataset-based image source with basic mensuration capabilities and raster analysis support. Query operations use standardized queries.\n\nGeographic Coverage\nThe imagery covers a local area in southern Ontario, centered on Thorold and nearby communities.\n\nSpatial Reference: UTM Zone 17N, EPSG 32617\nUse Cases\nThis service supports viewing, measuring, and analyzing multispectral imagery for local area mapping and interpretation. Users can export imagery, inspect metadata, and perform basic measurements through the service interface.",
 "extent": {
  "xmin": 641130,
  "ymin": 4769756.399999999,
  "xmax": 651093.6,
  "ymax": 4780395.6,
  "spatialReference": {
   "wkid": 32617,
   "latestWkid": 32617
  }
 },
 "initialExtent": {
  "xmin": 641130,
  "ymin": 4769756.399999999,
  "xmax": 651093.6,
  "ymax": 4780395.6,
  "spatialReference": {
   "wkid": 32617,
   "latestWkid": 32617
  }
 },
 "fullExtent": {
  "xmin": 641130,
  "ymin": 4769756.399999999,
  "xmax": 651093.6,
  "ymax": 4780395.6,
  "spatialReference": {
   "wkid": 32617,
   "latestWkid": 32617
  }
 },
 "hasMultidimensions": false,
 "pixelSizeX": 1.1999999999999973,
 "pixelSizeY": 1.200000000000021,
 "datasetFormat": "TIFF",
 "uncompressedSize": 1177830368,
 "blockWidth": 256,
 "blockHeight": 256,
 "compressionType": "None",
 "bandNames": [
  "Maxar-Legion Coastal (0.400 - 0.450) um",
  "Maxar-Legion Blue (0.450 - 0.510) um",
  "Maxar-Legion Green (0.510 - 0.580) um",
  "Maxar-Legion Yellow (0.585 - 0.625) um",
  "Maxar-Legion Red (0.630 - 0.690) um",
  "Maxar-Legion Red Edge (0.695 - 0.715) um",
  "Maxar-Legion Red Edge2 (0.730 - 0.750) um",
  "Maxar-Legion NIR (0.770 - 0.895) um"
 ],
 "allowCopy": true,
 "allowAnalysis": true,
 "bandCount": 8,
 "noDataValue": 0,
 "noDataValues": [
  0,
  0,
  0,
  0,
  0,
  0,
  0,
  0
 ],
 "pixelType": "U16",
 "minPixelSize": 0,
 "maxPixelSize": 0,
 "copyrightText": "Landinfo LLC, 2026",
 "serviceDataType": "esriImageServiceDataTypeGeneric",
 "serviceSourceType": "esriImageServiceSourceTypeDataset",
 "minValues": [
  1,
  1,
  1,
  1,
  1,
  1,
  1,
  1
 ],
 "maxValues": [
  18223,
  18039,
  19207,
  20927,
  22020,
  21713,
  22672,
  21439
 ],
 "meanValues": [
  1357.40818094,
  864.21431192961,
  1514.2800010415,
  1465.9255460296,
  1307.3557375868,
  1969.7025700821,
  4963.1417739675,
  5671.6923319148
 ],
 "stdvValues": [
  287.99340049866,
  375.85741650697,
  501.33802323893,
  692.45898694712,
  848.72260054421,
  839.37774856279,
  1640.1791146474,
  2256.7560889733
 ],
 "objectIdField": "",
 "fields": [],
 "capabilities": "Mensuration,Image,Metadata",
 "defaultMosaicMethod": "Center",
 "allowedMosaicMethods": "",
 "sortField": "",
 "sortValue": null,
 "sortAscending": true,
 "mosaicOperator": "First",
 "defaultCompressionQuality": 75,
 "defaultResamplingMethod": "Bilinear",
 "maxImageHeight": 4100,
 "maxImageWidth": 15000,
 "allowRasterFunction": true,
 "rasterFunctionInfos": [
  {
   "name": "None",
   "description": "",
   "help": ""
  }
 ],
 "rasterTypeInfos": [
  {
   "name": "Raster Dataset",
   "description": "Supports all ArcGIS Raster Datasets",
   "help": ""
  }
 ],
 "mensurationCapabilities": "Basic",
 "hasHistograms": true,
 "hasColormap": false,
 "hasRasterAttributeTable": false,
 "minScale": 0,
 "maxScale": 0,
 "exportTilesAllowed": false,
 "supportsStatistics": false,
 "supportsAdvancedQueries": false,
 "editFieldsInfo": null,
 "ownershipBasedAccessControlForRasters": null,
 "allowComputeTiePoints": false,
 "useStandardizedQueries": true,
 "advancedQueryCapabilities": {
  "useStandardizedQueries": true,
  "supportsStatistics": false,
  "supportsOrderBy": false,
  "supportsDistinct": false,
  "supportsPagination": false
 },
 "spatialReference": {
  "wkid": 32617,
  "latestWkid": 32617
 }
}
