{
 "currentVersion": 10.91,
 "serviceDescription": "DEM of Niagara Subappellations.",
 "name": "SubappellationDEM",
 "description": "DEM of Niagara Subappellations.",
 "extent": {
  "xmin": 1355205.6597670037,
  "ymin": 1.1843361482575301E7,
  "xmax": 1415085.6597670037,
  "ymax": 1.1868501482575301E7,
  "spatialReference": {
   "wkt": "PROJCS[\"NAD_1983_Lambert_Conformal_Conic\",GEOGCS[\"GCS_North_American_1983\",DATUM[\"D_North_American_1983\",SPHEROID[\"GRS_1980\",6378137.0,298.257222101]],PRIMEM[\"Greenwich\",0.0],UNIT[\"Degree\",0.0174532925199433]],PROJECTION[\"Lambert_Conformal_Conic\"],PARAMETER[\"False_Easting\",930000.0],PARAMETER[\"False_Northing\",6430000.0],PARAMETER[\"Central_Meridian\",-85.0],PARAMETER[\"Standard_Parallel_1\",44.5],PARAMETER[\"Standard_Parallel_2\",53.5],PARAMETER[\"Latitude_Of_Origin\",0.0],UNIT[\"Meter\",1.0]]"
  }
 },
 "initialExtent": {
  "xmin": 1355205.6597670037,
  "ymin": 1.1843361482575301E7,
  "xmax": 1415085.6597670037,
  "ymax": 1.1868501482575301E7,
  "spatialReference": {
   "wkt": "PROJCS[\"NAD_1983_Lambert_Conformal_Conic\",GEOGCS[\"GCS_North_American_1983\",DATUM[\"D_North_American_1983\",SPHEROID[\"GRS_1980\",6378137.0,298.257222101]],PRIMEM[\"Greenwich\",0.0],UNIT[\"Degree\",0.0174532925199433]],PROJECTION[\"Lambert_Conformal_Conic\"],PARAMETER[\"False_Easting\",930000.0],PARAMETER[\"False_Northing\",6430000.0],PARAMETER[\"Central_Meridian\",-85.0],PARAMETER[\"Standard_Parallel_1\",44.5],PARAMETER[\"Standard_Parallel_2\",53.5],PARAMETER[\"Latitude_Of_Origin\",0.0],UNIT[\"Meter\",1.0]]"
  }
 },
 "fullExtent": {
  "xmin": 1355205.6597670037,
  "ymin": 1.1843361482575301E7,
  "xmax": 1415085.6597670037,
  "ymax": 1.1868501482575301E7,
  "spatialReference": {
   "wkt": "PROJCS[\"NAD_1983_Lambert_Conformal_Conic\",GEOGCS[\"GCS_North_American_1983\",DATUM[\"D_North_American_1983\",SPHEROID[\"GRS_1980\",6378137.0,298.257222101]],PRIMEM[\"Greenwich\",0.0],UNIT[\"Degree\",0.0174532925199433]],PROJECTION[\"Lambert_Conformal_Conic\"],PARAMETER[\"False_Easting\",930000.0],PARAMETER[\"False_Northing\",6430000.0],PARAMETER[\"Central_Meridian\",-85.0],PARAMETER[\"Standard_Parallel_1\",44.5],PARAMETER[\"Standard_Parallel_2\",53.5],PARAMETER[\"Latitude_Of_Origin\",0.0],UNIT[\"Meter\",1.0]]"
  }
 },
 "hasMultidimensions": false,
 "pixelSizeX": 30,
 "pixelSizeY": 30,
 "datasetFormat": "FGDBR",
 "uncompressedSize": 6690592,
 "blockWidth": 128,
 "blockHeight": 128,
 "compressionType": "NONE",
 "bandNames": [
  "Band_1"
 ],
 "allowCopy": true,
 "allowAnalysis": true,
 "bandCount": 1,
 "pixelType": "F32",
 "minPixelSize": 0,
 "maxPixelSize": 0,
 "copyrightText": "",
 "serviceDataType": "esriImageServiceDataTypeGeneric",
 "serviceSourceType": "esriImageServiceSourceTypeDataset",
 "minValues": [
  73.81758117675781
 ],
 "maxValues": [
  215.41366577148438
 ],
 "meanValues": [
  132.56980087629844
 ],
 "stdvValues": [
  44.141503980212015
 ],
 "objectIdField": "",
 "fields": [],
 "capabilities": "Mensuration,Image,Metadata",
 "defaultMosaicMethod": "Center",
 "allowedMosaicMethods": "",
 "sortField": "",
 "sortValue": null,
 "sortAscending": true,
 "mosaicOperator": "First",
 "defaultCompressionQuality": 75,
 "defaultResamplingMethod": "Bilinear",
 "maxImageHeight": 4100,
 "maxImageWidth": 15000,
 "allowRasterFunction": true,
 "rasterFunctionInfos": [
  {
   "name": "None",
   "description": "",
   "help": ""
  }
 ],
 "rasterTypeInfos": [
  {
   "name": "Raster Dataset",
   "description": "Supports all ArcGIS Raster Datasets",
   "help": ""
  }
 ],
 "mensurationCapabilities": "Basic",
 "hasHistograms": true,
 "hasColormap": false,
 "hasRasterAttributeTable": false,
 "minScale": 0,
 "maxScale": 0,
 "exportTilesAllowed": false,
 "supportsStatistics": false,
 "supportsAdvancedQueries": false,
 "editFieldsInfo": null,
 "ownershipBasedAccessControlForRasters": null,
 "allowComputeTiePoints": false,
 "useStandardizedQueries": true,
 "advancedQueryCapabilities": {
  "useStandardizedQueries": true,
  "supportsStatistics": false,
  "supportsOrderBy": false,
  "supportsDistinct": false,
  "supportsPagination": false
 },
 "spatialReference": {
  "wkt": "PROJCS[\"NAD_1983_Lambert_Conformal_Conic\",GEOGCS[\"GCS_North_American_1983\",DATUM[\"D_North_American_1983\",SPHEROID[\"GRS_1980\",6378137.0,298.257222101]],PRIMEM[\"Greenwich\",0.0],UNIT[\"Degree\",0.0174532925199433]],PROJECTION[\"Lambert_Conformal_Conic\"],PARAMETER[\"False_Easting\",930000.0],PARAMETER[\"False_Northing\",6430000.0],PARAMETER[\"Central_Meridian\",-85.0],PARAMETER[\"Standard_Parallel_1\",44.5],PARAMETER[\"Standard_Parallel_2\",53.5],PARAMETER[\"Latitude_Of_Origin\",0.0],UNIT[\"Meter\",1.0]]"
 }
}
