{
 "currentVersion": 10.91,
 "serviceDescription": "Welland Canal Shikluna Shipyard",
 "name": "WellandCanal/Bk1Map11_Locks3_4",
 "description": "Welland Canal Shikluna Shipyard",
 "extent": {
  "xmin": 642483.5146373028,
  "ymin": 4778904.953218612,
  "xmax": 643391.8979373028,
  "ymax": 4780337.743742612,
  "spatialReference": {
   "wkid": 26917,
   "latestWkid": 26917
  }
 },
 "initialExtent": {
  "xmin": 642483.5146373028,
  "ymin": 4778904.953218612,
  "xmax": 643391.8979373028,
  "ymax": 4780337.743742612,
  "spatialReference": {
   "wkid": 26917,
   "latestWkid": 26917
  }
 },
 "fullExtent": {
  "xmin": 642483.5146373028,
  "ymin": 4778904.953218612,
  "xmax": 643391.8979373028,
  "ymax": 4780337.743742612,
  "spatialReference": {
   "wkid": 26917,
   "latestWkid": 26917
  }
 },
 "hasMultidimensions": false,
 "pixelSizeX": 0.24550899999999642,
 "pixelSizeY": 0.24550900000005174,
 "datasetFormat": "TIFF",
 "uncompressedSize": 129559200,
 "blockWidth": 128,
 "blockHeight": 128,
 "compressionType": "None",
 "bandNames": [
  "Band_1",
  "Band_2",
  "Band_3"
 ],
 "allowCopy": true,
 "allowAnalysis": true,
 "bandCount": 3,
 "noDataValue": 256,
 "noDataValues": [
  256,
  256,
  256
 ],
 "pixelType": "U16",
 "minPixelSize": 0,
 "maxPixelSize": 0,
 "copyrightText": "",
 "serviceDataType": "esriImageServiceDataTypeGeneric",
 "serviceSourceType": "esriImageServiceSourceTypeDataset",
 "minValues": [
  5,
  39,
  4
 ],
 "maxValues": [
  255,
  255,
  244
 ],
 "meanValues": [
  227.39539146688,
  214.2669040502,
  168.11474304762
 ],
 "stdvValues": [
  21.563215256837,
  20.394070449301,
  18.779036932163
 ],
 "objectIdField": "",
 "fields": [],
 "capabilities": "Image,Metadata,Mensuration",
 "defaultMosaicMethod": "Center",
 "allowedMosaicMethods": "",
 "sortField": "",
 "sortValue": null,
 "sortAscending": true,
 "mosaicOperator": "First",
 "defaultCompressionQuality": 75,
 "defaultResamplingMethod": "Bilinear",
 "maxImageHeight": 4100,
 "maxImageWidth": 15000,
 "allowRasterFunction": true,
 "rasterFunctionInfos": [
  {
   "name": "None",
   "description": "",
   "help": ""
  }
 ],
 "rasterTypeInfos": [
  {
   "name": "Raster Dataset",
   "description": "Supports all ArcGIS Raster Datasets",
   "help": ""
  }
 ],
 "mensurationCapabilities": "Basic",
 "hasHistograms": true,
 "hasColormap": false,
 "hasRasterAttributeTable": false,
 "minScale": 0,
 "maxScale": 0,
 "exportTilesAllowed": false,
 "supportsStatistics": false,
 "supportsAdvancedQueries": false,
 "editFieldsInfo": null,
 "ownershipBasedAccessControlForRasters": null,
 "allowComputeTiePoints": false,
 "useStandardizedQueries": true,
 "advancedQueryCapabilities": {
  "useStandardizedQueries": true,
  "supportsStatistics": false,
  "supportsOrderBy": false,
  "supportsDistinct": false,
  "supportsPagination": false
 },
 "spatialReference": {
  "wkid": 26917,
  "latestWkid": 26917
 }
}
