{
 "currentVersion": 10.91,
 "serviceDescription": "Book 2, Map 10, Welland Canal",
 "name": "WellandCanal/Bk2_Map10",
 "description": "Book 2, Map 10, Welland Canal",
 "extent": {
  "xmin": 645412.7490397054,
  "ymin": 4773837.98252015,
  "xmax": 646526.9940397054,
  "ymax": 4775254.85646215,
  "spatialReference": {
   "wkid": 26917,
   "latestWkid": 26917
  }
 },
 "initialExtent": {
  "xmin": 645412.7490397054,
  "ymin": 4773837.98252015,
  "xmax": 646526.9940397054,
  "ymax": 4775254.85646215,
  "spatialReference": {
   "wkid": 26917,
   "latestWkid": 26917
  }
 },
 "fullExtent": {
  "xmin": 645412.7490397054,
  "ymin": 4773837.98252015,
  "xmax": 646526.9940397054,
  "ymax": 4775254.85646215,
  "spatialReference": {
   "wkid": 26917,
   "latestWkid": 26917
  }
 },
 "hasMultidimensions": false,
 "pixelSizeX": 0.22284899999999908,
 "pixelSizeY": 0.222848999999978,
 "datasetFormat": "TIFF",
 "uncompressedSize": 190740000,
 "blockWidth": 128,
 "blockHeight": 128,
 "compressionType": "None",
 "bandNames": [
  "Band_1",
  "Band_2",
  "Band_3"
 ],
 "allowCopy": true,
 "allowAnalysis": true,
 "bandCount": 3,
 "noDataValue": 256,
 "noDataValues": [
  256,
  256,
  256
 ],
 "pixelType": "U16",
 "minPixelSize": 0,
 "maxPixelSize": 0,
 "copyrightText": "",
 "serviceDataType": "esriImageServiceDataTypeGeneric",
 "serviceSourceType": "esriImageServiceSourceTypeDataset",
 "minValues": [
  18,
  22,
  1
 ],
 "maxValues": [
  255,
  255,
  255
 ],
 "meanValues": [
  248.79820490393,
  233.8665656893,
  189.0242444857
 ],
 "stdvValues": [
  18.516471733981,
  16.764761998951,
  21.275448788835
 ],
 "objectIdField": "",
 "fields": [],
 "capabilities": "Image,Metadata,Mensuration",
 "defaultMosaicMethod": "Center",
 "allowedMosaicMethods": "",
 "sortField": "",
 "sortValue": null,
 "sortAscending": true,
 "mosaicOperator": "First",
 "defaultCompressionQuality": 75,
 "defaultResamplingMethod": "Bilinear",
 "maxImageHeight": 4100,
 "maxImageWidth": 15000,
 "allowRasterFunction": true,
 "rasterFunctionInfos": [
  {
   "name": "None",
   "description": "",
   "help": ""
  }
 ],
 "rasterTypeInfos": [
  {
   "name": "Raster Dataset",
   "description": "Supports all ArcGIS Raster Datasets",
   "help": ""
  }
 ],
 "mensurationCapabilities": "Basic",
 "hasHistograms": true,
 "hasColormap": false,
 "hasRasterAttributeTable": false,
 "minScale": 0,
 "maxScale": 0,
 "exportTilesAllowed": false,
 "supportsStatistics": false,
 "supportsAdvancedQueries": false,
 "editFieldsInfo": null,
 "ownershipBasedAccessControlForRasters": null,
 "allowComputeTiePoints": false,
 "useStandardizedQueries": true,
 "advancedQueryCapabilities": {
  "useStandardizedQueries": true,
  "supportsStatistics": false,
  "supportsOrderBy": false,
  "supportsDistinct": false,
  "supportsPagination": false
 },
 "spatialReference": {
  "wkid": 26917,
  "latestWkid": 26917
 }
}
