{
 "currentVersion": 10.91,
 "serviceDescription": "Book 3, Map 11, Welland Canal",
 "name": "WellandCanal/Bk3_Map11",
 "description": "Book 3, Map 11, Welland Canal",
 "extent": {
  "xmin": 642508.9692571445,
  "ymin": 4761451.385771999,
  "xmax": 643630.7759671445,
  "ymax": 4763005.304234999,
  "spatialReference": {
   "wkid": 26917,
   "latestWkid": 26917
  }
 },
 "initialExtent": {
  "xmin": 642508.9692571445,
  "ymin": 4761451.385771999,
  "xmax": 643630.7759671445,
  "ymax": 4763005.304234999,
  "spatialReference": {
   "wkid": 26917,
   "latestWkid": 26917
  }
 },
 "fullExtent": {
  "xmin": 642508.9692571445,
  "ymin": 4761451.385771999,
  "xmax": 643630.7759671445,
  "ymax": 4763005.304234999,
  "spatialReference": {
   "wkid": 26917,
   "latestWkid": 26917
  }
 },
 "hasMultidimensions": false,
 "pixelSizeX": 0.2275470000000068,
 "pixelSizeY": 0.22754700000001413,
 "datasetFormat": "TIFF",
 "uncompressedSize": 202001820,
 "blockWidth": 128,
 "blockHeight": 128,
 "compressionType": "None",
 "bandNames": [
  "Band_1",
  "Band_2",
  "Band_3"
 ],
 "allowCopy": true,
 "allowAnalysis": true,
 "bandCount": 3,
 "noDataValue": 256,
 "noDataValues": [
  256,
  256,
  256
 ],
 "pixelType": "U16",
 "minPixelSize": 0,
 "maxPixelSize": 0,
 "copyrightText": "",
 "serviceDataType": "esriImageServiceDataTypeGeneric",
 "serviceSourceType": "esriImageServiceSourceTypeDataset",
 "minValues": [
  0,
  0,
  0
 ],
 "maxValues": [
  255,
  255,
  255
 ],
 "meanValues": [
  246.69171877061,
  234.52429213588,
  210.13023430101
 ],
 "stdvValues": [
  27.218946538943,
  28.861121052822,
  25.784850372054
 ],
 "objectIdField": "",
 "fields": [],
 "capabilities": "Image,Metadata,Mensuration",
 "defaultMosaicMethod": "Center",
 "allowedMosaicMethods": "",
 "sortField": "",
 "sortValue": null,
 "sortAscending": true,
 "mosaicOperator": "First",
 "defaultCompressionQuality": 75,
 "defaultResamplingMethod": "Bilinear",
 "maxImageHeight": 4100,
 "maxImageWidth": 15000,
 "allowRasterFunction": true,
 "rasterFunctionInfos": [
  {
   "name": "None",
   "description": "",
   "help": ""
  }
 ],
 "rasterTypeInfos": [
  {
   "name": "Raster Dataset",
   "description": "Supports all ArcGIS Raster Datasets",
   "help": ""
  }
 ],
 "mensurationCapabilities": "Basic",
 "hasHistograms": true,
 "hasColormap": false,
 "hasRasterAttributeTable": false,
 "minScale": 0,
 "maxScale": 0,
 "exportTilesAllowed": false,
 "supportsStatistics": false,
 "supportsAdvancedQueries": false,
 "editFieldsInfo": null,
 "ownershipBasedAccessControlForRasters": null,
 "allowComputeTiePoints": false,
 "useStandardizedQueries": true,
 "advancedQueryCapabilities": {
  "useStandardizedQueries": true,
  "supportsStatistics": false,
  "supportsOrderBy": false,
  "supportsDistinct": false,
  "supportsPagination": false
 },
 "spatialReference": {
  "wkid": 26917,
  "latestWkid": 26917
 }
}
