{
 "currentVersion": 10.91,
 "serviceDescription": "Book 3, Map 12, Welland Canal",
 "name": "WellandCanal/Bk3_Map12",
 "description": "Book 3, Map 12, Welland Canal",
 "extent": {
  "xmin": 642325.5526489235,
  "ymin": 4761008.766962656,
  "xmax": 643066.9420639235,
  "ymax": 4762084.403147656,
  "spatialReference": {
   "wkid": 26917,
   "latestWkid": 26917
  }
 },
 "initialExtent": {
  "xmin": 642325.5526489235,
  "ymin": 4761008.766962656,
  "xmax": 643066.9420639235,
  "ymax": 4762084.403147656,
  "spatialReference": {
   "wkid": 26917,
   "latestWkid": 26917
  }
 },
 "fullExtent": {
  "xmin": 642325.5526489235,
  "ymin": 4761008.766962656,
  "xmax": 643066.9420639235,
  "ymax": 4762084.403147656,
  "spatialReference": {
   "wkid": 26917,
   "latestWkid": 26917
  }
 },
 "hasMultidimensions": false,
 "pixelSizeX": 0.15346499999999655,
 "pixelSizeY": 0.15346499999995994,
 "datasetFormat": "TIFF",
 "uncompressedSize": 203162874,
 "blockWidth": 128,
 "blockHeight": 128,
 "compressionType": "None",
 "bandNames": [
  "Band_1",
  "Band_2",
  "Band_3"
 ],
 "allowCopy": true,
 "allowAnalysis": true,
 "bandCount": 3,
 "noDataValue": 256,
 "noDataValues": [
  256,
  256,
  256
 ],
 "pixelType": "U16",
 "minPixelSize": 0,
 "maxPixelSize": 0,
 "copyrightText": "",
 "serviceDataType": "esriImageServiceDataTypeGeneric",
 "serviceSourceType": "esriImageServiceSourceTypeDataset",
 "minValues": [
  0,
  0,
  0
 ],
 "maxValues": [
  255,
  255,
  255
 ],
 "meanValues": [
  241.40954540537,
  225.32626876697,
  181.85737486436
 ],
 "stdvValues": [
  27.489383886133,
  24.405086095324,
  22.373174509837
 ],
 "objectIdField": "",
 "fields": [],
 "capabilities": "Image,Metadata,Mensuration",
 "defaultMosaicMethod": "Center",
 "allowedMosaicMethods": "",
 "sortField": "",
 "sortValue": null,
 "sortAscending": true,
 "mosaicOperator": "First",
 "defaultCompressionQuality": 75,
 "defaultResamplingMethod": "Bilinear",
 "maxImageHeight": 4100,
 "maxImageWidth": 15000,
 "allowRasterFunction": true,
 "rasterFunctionInfos": [
  {
   "name": "None",
   "description": "",
   "help": ""
  }
 ],
 "rasterTypeInfos": [
  {
   "name": "Raster Dataset",
   "description": "Supports all ArcGIS Raster Datasets",
   "help": ""
  }
 ],
 "mensurationCapabilities": "Basic",
 "hasHistograms": true,
 "hasColormap": false,
 "hasRasterAttributeTable": false,
 "minScale": 0,
 "maxScale": 0,
 "exportTilesAllowed": false,
 "supportsStatistics": false,
 "supportsAdvancedQueries": false,
 "editFieldsInfo": null,
 "ownershipBasedAccessControlForRasters": null,
 "allowComputeTiePoints": false,
 "useStandardizedQueries": true,
 "advancedQueryCapabilities": {
  "useStandardizedQueries": true,
  "supportsStatistics": false,
  "supportsOrderBy": false,
  "supportsDistinct": false,
  "supportsPagination": false
 },
 "spatialReference": {
  "wkid": 26917,
  "latestWkid": 26917
 }
}
