{ "currentVersion": 10.91, "serviceDescription": "
Historical map showing the First and Second Welland Canal, locks, lift elevations, townships, roads, towing paths and bridges.<\/SPAN><\/P> Digital reproduction of map (59 x 549 cm.) in the Public Archives of Canada. National Map Collection. Library and Archives Canada.<\/SPAN><\/P> Relief shown by shading.<\/SPAN><\/P> Georeferenced and modified from LAC e011168620 by Map, Data and GIS Library, Brock University. <\/SPAN><\/P> <\/P><\/DIV><\/DIV><\/DIV>",
"name": "WellandCanal/WC1837NMC11848_a3",
"description": " Historical map showing the First and Second Welland Canal, locks, lift elevations, townships, roads, towing paths and bridges.<\/SPAN><\/P> Digital reproduction of map (59 x 549 cm.) in the Public Archives of Canada. National Map Collection. Library and Archives Canada.<\/SPAN><\/P> Relief shown by shading.<\/SPAN><\/P> Georeferenced and modified from LAC e011168620 by Map, Data and GIS Library, Brock University. <\/SPAN><\/P> <\/P><\/DIV><\/DIV><\/DIV>",
"extent": {
"xmin": 641866.9516481515,
"ymin": 4755593.411933052,
"xmax": 643424.9858001515,
"ymax": 4758198.996206053,
"spatialReference": {
"wkid": 26917,
"latestWkid": 26917
}
},
"initialExtent": {
"xmin": 641866.9516481515,
"ymin": 4755593.411933052,
"xmax": 643424.9858001515,
"ymax": 4758198.996206053,
"spatialReference": {
"wkid": 26917,
"latestWkid": 26917
}
},
"fullExtent": {
"xmin": 641866.9516481515,
"ymin": 4755593.411933052,
"xmax": 643424.9858001515,
"ymax": 4758198.996206053,
"spatialReference": {
"wkid": 26917,
"latestWkid": 26917
}
},
"hasMultidimensions": false,
"pixelSizeX": 0.5424909999999925,
"pixelSizeY": 0.5424910000000516,
"datasetFormat": "TIFF",
"uncompressedSize": 82736478,
"blockWidth": 128,
"blockHeight": 128,
"compressionType": "None",
"bandNames": [
"Band_1",
"Band_2",
"Band_3"
],
"allowCopy": true,
"allowAnalysis": true,
"bandCount": 3,
"noDataValue": 256,
"noDataValues": [
256,
256,
256
],
"pixelType": "U16",
"minPixelSize": 0,
"maxPixelSize": 0,
"copyrightText": "Map, Data & GIS Library, Brock University.",
"serviceDataType": "esriImageServiceDataTypeGeneric",
"serviceSourceType": "esriImageServiceSourceTypeDataset",
"minValues": [
52,
52,
47
],
"maxValues": [
247,
233,
221
],
"meanValues": [
229.28108012216,
205.37407950581,
168.17991237723
],
"stdvValues": [
9.9766509428505,
8.8578423584065,
9.0643787250414
],
"objectIdField": "",
"fields": [],
"capabilities": "Image,Metadata,Mensuration",
"defaultMosaicMethod": "Center",
"allowedMosaicMethods": "",
"sortField": "",
"sortValue": null,
"sortAscending": true,
"mosaicOperator": "First",
"defaultCompressionQuality": 75,
"defaultResamplingMethod": "Bilinear",
"maxImageHeight": 4100,
"maxImageWidth": 15000,
"allowRasterFunction": true,
"rasterFunctionInfos": [
{
"name": "None",
"description": "",
"help": ""
}
],
"rasterTypeInfos": [
{
"name": "Raster Dataset",
"description": "Supports all ArcGIS Raster Datasets",
"help": ""
}
],
"mensurationCapabilities": "Basic",
"hasHistograms": true,
"hasColormap": false,
"hasRasterAttributeTable": false,
"minScale": 0,
"maxScale": 0,
"exportTilesAllowed": false,
"supportsStatistics": false,
"supportsAdvancedQueries": false,
"editFieldsInfo": null,
"ownershipBasedAccessControlForRasters": null,
"allowComputeTiePoints": false,
"useStandardizedQueries": true,
"advancedQueryCapabilities": {
"useStandardizedQueries": true,
"supportsStatistics": false,
"supportsOrderBy": false,
"supportsDistinct": false,
"supportsPagination": false
},
"spatialReference": {
"wkid": 26917,
"latestWkid": 26917
}
}