{ "currentVersion": 10.91, "serviceDescription": "
Historical map showing the First and Second Welland Canal, locks, lift elevations, townships, roads, towing paths and bridges.<\/SPAN><\/P> Digital reproduction of map (59 x 549 cm.) in the Public Archives of Canada. National Map Collection. Library and Archives Canada.<\/SPAN><\/P> Relief shown by shading.<\/SPAN><\/P> Georeferenced and modified from LAC e011168620 by Map, Data and GIS Library, Brock University. <\/SPAN><\/P> <\/P><\/DIV><\/DIV><\/DIV>",
"name": "WellandCanal/WC1837NMC11848_a7",
"description": " Historical map showing the First and Second Welland Canal, locks, lift elevations, townships, roads, towing paths and bridges.<\/SPAN><\/P> Digital reproduction of map (59 x 549 cm.) in the Public Archives of Canada. National Map Collection. Library and Archives Canada.<\/SPAN><\/P> Relief shown by shading.<\/SPAN><\/P> Georeferenced and modified from LAC e011168620 by Map, Data and GIS Library, Brock University. <\/SPAN><\/P> <\/P><\/DIV><\/DIV><\/DIV>",
"extent": {
"xmin": 643331.3054060189,
"ymin": 4770154.748991184,
"xmax": 648180.4077610188,
"ymax": 4775212.235255184,
"spatialReference": {
"wkid": 26917,
"latestWkid": 26917
}
},
"initialExtent": {
"xmin": 643331.3054060189,
"ymin": 4770154.748991184,
"xmax": 648180.4077610188,
"ymax": 4775212.235255184,
"spatialReference": {
"wkid": 26917,
"latestWkid": 26917
}
},
"fullExtent": {
"xmin": 643331.3054060189,
"ymin": 4770154.748991184,
"xmax": 648180.4077610188,
"ymax": 4775212.235255184,
"spatialReference": {
"wkid": 26917,
"latestWkid": 26917
}
},
"hasMultidimensions": false,
"pixelSizeX": 0.8792569999999965,
"pixelSizeY": 0.8792569999999506,
"datasetFormat": "TIFF",
"uncompressedSize": 190333680,
"blockWidth": 128,
"blockHeight": 128,
"compressionType": "None",
"bandNames": [
"Band_1",
"Band_2",
"Band_3"
],
"allowCopy": true,
"allowAnalysis": true,
"bandCount": 3,
"noDataValue": 256,
"noDataValues": [
256,
256,
256
],
"pixelType": "U16",
"minPixelSize": 0,
"maxPixelSize": 0,
"copyrightText": "Map, Data & GIS Library, Brock University.",
"serviceDataType": "esriImageServiceDataTypeGeneric",
"serviceSourceType": "esriImageServiceSourceTypeDataset",
"minValues": [
33,
35,
37
],
"maxValues": [
250,
234,
217
],
"meanValues": [
220.15488558167,
194.02938144107,
155.15739919691
],
"stdvValues": [
13.057378186212,
11.101902145595,
10.257202582004
],
"objectIdField": "",
"fields": [],
"capabilities": "Image,Metadata,Mensuration",
"defaultMosaicMethod": "Center",
"allowedMosaicMethods": "",
"sortField": "",
"sortValue": null,
"sortAscending": true,
"mosaicOperator": "First",
"defaultCompressionQuality": 75,
"defaultResamplingMethod": "Bilinear",
"maxImageHeight": 4100,
"maxImageWidth": 15000,
"allowRasterFunction": true,
"rasterFunctionInfos": [
{
"name": "None",
"description": "",
"help": ""
}
],
"rasterTypeInfos": [
{
"name": "Raster Dataset",
"description": "Supports all ArcGIS Raster Datasets",
"help": ""
}
],
"mensurationCapabilities": "Basic",
"hasHistograms": true,
"hasColormap": false,
"hasRasterAttributeTable": false,
"minScale": 0,
"maxScale": 0,
"exportTilesAllowed": false,
"supportsStatistics": false,
"supportsAdvancedQueries": false,
"editFieldsInfo": null,
"ownershipBasedAccessControlForRasters": null,
"allowComputeTiePoints": false,
"useStandardizedQueries": true,
"advancedQueryCapabilities": {
"useStandardizedQueries": true,
"supportsStatistics": false,
"supportsOrderBy": false,
"supportsDistinct": false,
"supportsPagination": false
},
"spatialReference": {
"wkid": 26917,
"latestWkid": 26917
}
}