{ "currentVersion": 10.91, "serviceDescription": "
Map date: Reproduced 1980s. Shows canals from 1829 and 1845. \"No date given\"--printed on map.<\/SPAN><\/P> Digital reproduction of map in the Map, Data and GIS Library, Brock University. <\/SPAN><\/P> Georeferenced and modified from Brock call # G 3462 W45 1829 N53 no.15, by Map, Data and GIS Library, Brock University. <\/SPAN><\/P> <\/P><\/DIV><\/DIV><\/DIV>",
"name": "WellandCanal/WellandCanal1829_1845MerrittonThorold",
"description": " Map date: Reproduced 1980s. Shows canals from 1829 and 1845. \"No date given\"--printed on map.<\/SPAN><\/P> Digital reproduction of map in the Map, Data and GIS Library, Brock University. <\/SPAN><\/P> Georeferenced and modified from Brock call # G 3462 W45 1829 N53 no.15, by Map, Data and GIS Library, Brock University. <\/SPAN><\/P> <\/P><\/DIV><\/DIV><\/DIV>",
"extent": {
"xmin": 643637.8748844528,
"ymin": 4774460.45084306,
"xmax": 647741.5557514528,
"ymax": 4778669.678557061,
"spatialReference": {
"wkid": 26917,
"latestWkid": 26917
}
},
"initialExtent": {
"xmin": 643637.8748844528,
"ymin": 4774460.45084306,
"xmax": 647741.5557514528,
"ymax": 4778669.678557061,
"spatialReference": {
"wkid": 26917,
"latestWkid": 26917
}
},
"fullExtent": {
"xmin": 643637.8748844528,
"ymin": 4774460.45084306,
"xmax": 647741.5557514528,
"ymax": 4778669.678557061,
"spatialReference": {
"wkid": 26917,
"latestWkid": 26917
}
},
"hasMultidimensions": false,
"pixelSizeX": 0.48639100000000207,
"pixelSizeY": 0.48639100000003116,
"datasetFormat": "TIFF",
"uncompressedSize": 146027596,
"blockWidth": 128,
"blockHeight": 128,
"compressionType": "None",
"bandNames": [
"Band_1"
],
"allowCopy": true,
"allowAnalysis": true,
"bandCount": 1,
"noDataValue": 256,
"noDataValues": [
256
],
"pixelType": "U16",
"minPixelSize": 0,
"maxPixelSize": 0,
"copyrightText": "Map, Data & GIS Library, Brock University.",
"serviceDataType": "esriImageServiceDataTypeGeneric",
"serviceSourceType": "esriImageServiceSourceTypeDataset",
"minValues": [
0
],
"maxValues": [
255
],
"meanValues": [
236.711307006
],
"stdvValues": [
36.187103896117
],
"objectIdField": "",
"fields": [],
"capabilities": "Image,Metadata,Mensuration",
"defaultMosaicMethod": "Center",
"allowedMosaicMethods": "",
"sortField": "",
"sortValue": null,
"sortAscending": true,
"mosaicOperator": "First",
"defaultCompressionQuality": 75,
"defaultResamplingMethod": "Bilinear",
"maxImageHeight": 4100,
"maxImageWidth": 15000,
"allowRasterFunction": true,
"rasterFunctionInfos": [
{
"name": "None",
"description": "",
"help": ""
}
],
"rasterTypeInfos": [
{
"name": "Raster Dataset",
"description": "Supports all ArcGIS Raster Datasets",
"help": ""
}
],
"mensurationCapabilities": "Basic",
"hasHistograms": true,
"hasColormap": false,
"hasRasterAttributeTable": false,
"minScale": 0,
"maxScale": 0,
"exportTilesAllowed": false,
"supportsStatistics": false,
"supportsAdvancedQueries": false,
"editFieldsInfo": null,
"ownershipBasedAccessControlForRasters": null,
"allowComputeTiePoints": false,
"useStandardizedQueries": true,
"advancedQueryCapabilities": {
"useStandardizedQueries": true,
"supportsStatistics": false,
"supportsOrderBy": false,
"supportsDistinct": false,
"supportsPagination": false
},
"spatialReference": {
"wkid": 26917,
"latestWkid": 26917
}
}