View In:
ArcGIS JavaScript
ArcGIS Online Map Viewer
ArcGIS Earth
ArcMap
View Footprint In:
ArcGIS Online Map Viewer
Service Description: AirPhotos/BrockUniversity2023_tif
Name: AirPhotos/BrockUniversity2023_tif
Description:
Single Fused Map Cache: false
Extent:
XMin: 641549.2325691329
YMin: 4774178.39218762
XMax: 643766.1650279369
YMax: 4776265.019797934
Spatial Reference: 2150
(2958)
Initial Extent:
XMin: 641549.2325691329
YMin: 4774178.39218762
XMax: 643766.1650279369
YMax: 4776265.019797934
Spatial Reference: 2150
(2958)
Full Extent:
XMin: 641549.2325691329
YMin: 4774178.39218762
XMax: 643766.1650279369
YMax: 4776265.019797934
Spatial Reference: 2150
(2958)
Pixel Size X: 0.09999695348687365
Pixel Size Y: 0.09999653090116631
Band Count: 5
Pixel Type: U16
RasterFunction Infos: {"rasterFunctionInfos": [{
"name": "None",
"description": "",
"help": ""
}]}
Mensuration Capabilities: Basic
Has Histograms: true
Has Colormap: false
Has Multi Dimensions : false
Rendering Rule:
Min Scale: 0
Max Scale: 0
Copyright Text:
Service Data Type: esriImageServiceDataTypeGeneric
Min Values: 0, 0, 0, 0, 255
Max Values: 255, 255, 255, 255, 255
Mean Values: 102.31435709433, 101.97669007198, 81.342727274292, 112.82177809135, 255
Standard Deviation Values: 37.763086569586, 38.368182205322, 34.344197572237, 45.152170098971, 0
Object ID Field:
Fields:
None
Default Mosaic Method: Center
Allowed Mosaic Methods:
SortField:
SortValue: null
Mosaic Operator: First
Default Compression Quality: 75
Default Resampling Method: Bilinear
Max Record Count: null
Max Image Height: 4100
Max Image Width: 15000
Max Download Image Count: null
Max Mosaic Image Count: null
Allow Raster Function: true
Allow Copy: true
Allow Analysis: true
Allow Compute TiePoints: false
Supports Statistics: false
Supports Advanced Queries: false
Use StandardizedQueries: true
Raster Type Infos:
Name: Raster Dataset
Description: Supports all ArcGIS Raster Datasets
Help:
Has Raster Attribute Table: false
Edit Fields Info: null
Ownership Based AccessControl For Rasters: null
Child Resources:
Info
Histograms
Statistics
Key Properties
Legend
Raster Function Infos
Supported Operations:
Export Image
Identify
Measure
Compute Histograms
Compute Statistics Histograms
Get Samples
Compute Class Statistics
Query Boundary
Compute Pixel Location
Compute Angles
Validate
Project