View In:
ArcGIS JavaScript
ArcGIS Online Map Viewer
ArcGIS Earth
ArcMap
View Footprint In:
ArcGIS Online Map Viewer
Service Description: Aerial view of Port Dalhousie, St. Catharines in 1927.
Name: AirPhotos/PortDalhousieaerial1927
Description: Aerial view of Port Dalhousie, St. Catharines in 1927.
Single Fused Map Cache: false
Extent:
XMin: -8825090.112619778
YMin: 5340614.37584513
XMax: -8822749.364539778
YMax: 5343651.87850013
Spatial Reference: 102100
(3857)
Initial Extent:
XMin: -8825090.112619778
YMin: 5340614.37584513
XMax: -8822749.364539778
YMax: 5343651.87850013
Spatial Reference: 102100
(3857)
Full Extent:
XMin: -8825090.112619778
YMin: 5340614.37584513
XMax: -8822749.364539778
YMax: 5343651.87850013
Spatial Reference: 102100
(3857)
Pixel Size X: 0.43411500000005215
Pixel Size Y: 0.43411500000006087
Band Count: 1
Pixel Type: U16
RasterFunction Infos: {"rasterFunctionInfos": [{
"name": "None",
"description": "",
"help": ""
}]}
Mensuration Capabilities: Basic
Has Histograms: true
Has Colormap: false
Has Multi Dimensions : false
Rendering Rule:
Min Scale: 0
Max Scale: 0
Copyright Text:
Service Data Type: esriImageServiceDataTypeGeneric
Min Values: 1
Max Values: 255
Mean Values: 140.21143264728
Standard Deviation Values: 59.175923796703
Object ID Field:
Fields:
None
Default Mosaic Method: Center
Allowed Mosaic Methods:
SortField:
SortValue: null
Mosaic Operator: First
Default Compression Quality: 75
Default Resampling Method: Bilinear
Max Record Count: null
Max Image Height: 4100
Max Image Width: 15000
Max Download Image Count: null
Max Mosaic Image Count: null
Allow Raster Function: true
Allow Copy: true
Allow Analysis: true
Allow Compute TiePoints: false
Supports Statistics: false
Supports Advanced Queries: false
Use StandardizedQueries: true
Raster Type Infos:
Name: Raster Dataset
Description: Supports all ArcGIS Raster Datasets
Help:
Has Raster Attribute Table: false
Edit Fields Info: null
Ownership Based AccessControl For Rasters: null
Child Resources:
Info
Histograms
Statistics
Key Properties
Legend
Raster Function Infos
Supported Operations:
Export Image
Identify
Measure
Compute Histograms
Compute Statistics Histograms
Get Samples
Compute Class Statistics
Query Boundary
Compute Pixel Location
Compute Angles
Validate
Project