View In:
ArcGIS JavaScript
ArcGIS Online Map Viewer
ArcGIS Earth
ArcMap
View Footprint In:
ArcGIS Online Map Viewer
Service Description: St. Catharines 2013 orthoimagery
Name: AirPhotos/StCatharines_2013
Description: St. Catharines 2013 orthoimagery
Single Fused Map Cache: true
Tile Info:
- Height: 256
- Width: 256
- DPI: 96
-
Levels of Detail: 5
- Format: MIXED
- Compression Quality: 75.0
- LERC Error: NaN
- Origin: X: -5120900.0
Y: 9998100.0
- Spatial Reference: 26917
(26917)
Storage Info:
- Storage Format: esriMapCacheStorageModeCompactV2
- Packet Size: 128
Extent:
XMin: 634979.3
YMin: 4772999.899999999
XMax: 649000.1000000001
YMax: 4791395.6
Spatial Reference: 26917
(26917)
Initial Extent:
XMin: 634979.3
YMin: 4772999.899999999
XMax: 649000.1000000001
YMax: 4791395.6
Spatial Reference: 26917
(26917)
Full Extent:
XMin: 634979.3
YMin: 4772999.899999999
XMax: 649000.1000000001
YMax: 4791395.6
Spatial Reference: 26917
(26917)
Pixel Size X: 0.10000000000000034
Pixel Size Y: 0.10000000000000102
Band Count: 5
Pixel Type: U8
RasterFunction Infos: {"rasterFunctionInfos": [{
"name": "None",
"description": "",
"help": ""
}]}
Mensuration Capabilities: Basic
Has Histograms: true
Has Colormap: false
Has Multi Dimensions : false
Rendering Rule:
Min Scale: 0
Max Scale: 0
Copyright Text:
Service Data Type: esriImageServiceDataTypeGeneric
Min Values: 0, 19, 27, 0, 0
Max Values: 255, 255, 255, 255, 255
Mean Values: 142.88953301127, 145.95330112721, 134.31127214171, 163.97101449275, 207.11497584541
Standard Deviation Values: 59.314666525231, 55.528099192135, 60.552181766961, 61.479353567469, 98.955107753988
Object ID Field:
Fields:
None
Default Mosaic Method: Center
Allowed Mosaic Methods:
SortField:
SortValue: null
Mosaic Operator: First
Default Compression Quality: 75
Default Resampling Method: Bilinear
Max Record Count: null
Max Image Height: 4100
Max Image Width: 15000
Max Download Image Count: null
Max Mosaic Image Count: null
Allow Raster Function: true
Allow Copy: true
Allow Analysis: true
Allow Compute TiePoints: false
Supports Statistics: false
Supports Advanced Queries: false
Use StandardizedQueries: true
Raster Type Infos:
Name: Raster Dataset
Description: Supports all ArcGIS Raster Datasets
Help:
Has Raster Attribute Table: false
Edit Fields Info: null
Ownership Based AccessControl For Rasters: null
Child Resources:
Info
Histograms
Statistics
Key Properties
Legend
Raster Function Infos
Supported Operations:
Export Image
Identify
Measure
Compute Histograms
Compute Statistics Histograms
Get Samples
Compute Class Statistics
Query Boundary
Compute Pixel Location
Compute Angles
Validate
Project