View In:
ArcGIS JavaScript
ArcGIS Online Map Viewer
ArcGIS Earth
ArcMap
View Footprint In:
ArcGIS Online Map Viewer
Service Description: Thorold 2013 orthoimagery
Name: AirPhotos/Thorold_2013
Description: Thorold 2013 orthoimagery
Single Fused Map Cache: false
Extent:
XMin: 639365.8
YMin: 4765231.8
XMax: 649177.4
YMax: 4778040.5
Spatial Reference: 26917
(26917)
Initial Extent:
XMin: 639365.8
YMin: 4765231.8
XMax: 649177.4
YMax: 4778040.5
Spatial Reference: 26917
(26917)
Full Extent:
XMin: 639365.8
YMin: 4765231.8
XMax: 649177.4
YMax: 4778040.5
Spatial Reference: 26917
(26917)
Pixel Size X: 0.09999999999999977
Pixel Size Y: 0.10000000000000145
Band Count: 5
Pixel Type: U8
RasterFunction Infos: {"rasterFunctionInfos": [{
"name": "None",
"description": "",
"help": ""
}]}
Mensuration Capabilities: Basic
Has Histograms: true
Has Colormap: false
Has Multi Dimensions : false
Rendering Rule:
Min Scale: 0
Max Scale: 0
Copyright Text:
Service Data Type: esriImageServiceDataTypeGeneric
Min Values: 36, 46, 33, 0, 255
Max Values: 209, 200, 192, 205, 255
Mean Values: 114.27711640212, 111.25165343915, 96.422288359788, 145.56547619048, 255
Standard Deviation Values: 23.035555796167, 20.882667711722, 19.763363118344, 25.420049447762, 0
Object ID Field:
Fields:
None
Default Mosaic Method: Center
Allowed Mosaic Methods:
SortField:
SortValue: null
Mosaic Operator: First
Default Compression Quality: 75
Default Resampling Method: Bilinear
Max Record Count: null
Max Image Height: 4100
Max Image Width: 15000
Max Download Image Count: null
Max Mosaic Image Count: null
Allow Raster Function: true
Allow Copy: true
Allow Analysis: true
Allow Compute TiePoints: false
Supports Statistics: false
Supports Advanced Queries: false
Use StandardizedQueries: true
Raster Type Infos:
Name: Raster Dataset
Description: Supports all ArcGIS Raster Datasets
Help:
Has Raster Attribute Table: false
Edit Fields Info: null
Ownership Based AccessControl For Rasters: null
Child Resources:
Info
Histograms
Statistics
Key Properties
Legend
Raster Function Infos
Supported Operations:
Export Image
Identify
Measure
Compute Histograms
Compute Statistics Histograms
Get Samples
Compute Class Statistics
Query Boundary
Compute Pixel Location
Compute Angles
Validate
Project