View In:
ArcGIS JavaScript
ArcGIS Online Map Viewer
ArcGIS Earth
ArcMap
View Footprint In:
ArcGIS Online Map Viewer
Service Description: Historical map showing boundary, road and transportation features.
Digital reproduction of map (36 x 66 cm.) in the Public Archives of Canada. National Map Collection. Library and Archives Canada.
Relief shown by hachures.
Georeferenced and modified from NMC Map number 2917 by Map, Data and GIS Library, Brock University.
Name: EarlyNiagara/CanadaWest1858NMC2917
Description: Historical map showing boundary, road and transportation features.
Digital reproduction of map (36 x 66 cm.) in the Public Archives of Canada. National Map Collection. Library and Archives Canada.
Relief shown by hachures.
Georeferenced and modified from NMC Map number 2917 by Map, Data and GIS Library, Brock University.
Single Fused Map Cache: false
Extent:
XMin: -9276693.244006632
YMin: 5139474.81573797
XMax: -8777762.094720632
YMax: 5425228.20085997
Spatial Reference: 102100
(3857)
Initial Extent:
XMin: -9276693.244006632
YMin: 5139474.81573797
XMax: -8777762.094720632
YMax: 5425228.20085997
Spatial Reference: 102100
(3857)
Full Extent:
XMin: -9276693.244006632
YMin: 5139474.81573797
XMax: -8777762.094720632
YMax: 5425228.20085997
Spatial Reference: 102100
(3857)
Pixel Size X: 69.986134
Pixel Size Y: 69.98613400000006
Band Count: 1
Pixel Type: U16
RasterFunction Infos: {"rasterFunctionInfos": [{
"name": "None",
"description": "",
"help": ""
}]}
Mensuration Capabilities: Basic
Has Histograms: true
Has Colormap: false
Has Multi Dimensions : false
Rendering Rule:
Min Scale: 0
Max Scale: 0
Copyright Text: Map, Data & GIS Library, Brock University.
Service Data Type: esriImageServiceDataTypeGeneric
Min Values: 0
Max Values: 255
Mean Values: 197.88313290045
Standard Deviation Values: 53.04002787246
Object ID Field:
Fields:
None
Default Mosaic Method: Center
Allowed Mosaic Methods:
SortField:
SortValue: null
Mosaic Operator: First
Default Compression Quality: 75
Default Resampling Method: Bilinear
Max Record Count: null
Max Image Height: 4100
Max Image Width: 15000
Max Download Image Count: null
Max Mosaic Image Count: null
Allow Raster Function: true
Allow Copy: true
Allow Analysis: true
Allow Compute TiePoints: false
Supports Statistics: false
Supports Advanced Queries: false
Use StandardizedQueries: true
Raster Type Infos:
Name: Raster Dataset
Description: Supports all ArcGIS Raster Datasets
Help:
Has Raster Attribute Table: false
Edit Fields Info: null
Ownership Based AccessControl For Rasters: null
Child Resources:
Info
Histograms
Statistics
Key Properties
Legend
Raster Function Infos
Supported Operations:
Export Image
Identify
Measure
Compute Histograms
Compute Statistics Histograms
Get Samples
Compute Class Statistics
Query Boundary
Compute Pixel Location
Compute Angles
Validate
Project