View In:
ArcGIS JavaScript
ArcGIS Online Map Viewer
ArcGIS Earth
ArcMap
View Footprint In:
ArcGIS Online Map Viewer
Service Description: Clinton 1787; Lincoln; Niagara
Name: EarlyNiagara/Clinton1787
Description: Clinton 1787; Lincoln; Niagara
Single Fused Map Cache: false
Extent:
XMin: -8851700.163444068
YMin: 5327972.891751343
XMax: -8836821.600544069
YMax: 5346839.211611344
Spatial Reference: 102100
(3857)
Initial Extent:
XMin: -8851700.163444068
YMin: 5327972.891751343
XMax: -8836821.600544069
YMax: 5346839.211611344
Spatial Reference: 102100
(3857)
Full Extent:
XMin: -8851700.163444068
YMin: 5327972.891751343
XMax: -8836821.600544069
YMax: 5346839.211611344
Spatial Reference: 102100
(3857)
Pixel Size X: 3.7762849999998274
Pixel Size Y: 3.7762850000000325
Band Count: 1
Pixel Type: U16
RasterFunction Infos: {"rasterFunctionInfos": [{
"name": "None",
"description": "",
"help": ""
}]}
Mensuration Capabilities: Basic
Has Histograms: true
Has Colormap: false
Has Multi Dimensions : false
Rendering Rule:
Min Scale: 0
Max Scale: 0
Copyright Text:
Service Data Type: esriImageServiceDataTypeGeneric
Min Values: 0
Max Values: 255
Mean Values: 218.83507242139
Standard Deviation Values: 48.941903838166
Object ID Field:
Fields:
None
Default Mosaic Method: Center
Allowed Mosaic Methods:
SortField:
SortValue: null
Mosaic Operator: First
Default Compression Quality: 75
Default Resampling Method: Bilinear
Max Record Count: null
Max Image Height: 4100
Max Image Width: 15000
Max Download Image Count: null
Max Mosaic Image Count: null
Allow Raster Function: true
Allow Copy: true
Allow Analysis: true
Allow Compute TiePoints: false
Supports Statistics: false
Supports Advanced Queries: false
Use StandardizedQueries: true
Raster Type Infos:
Name: Raster Dataset
Description: Supports all ArcGIS Raster Datasets
Help:
Has Raster Attribute Table: false
Edit Fields Info: null
Ownership Based AccessControl For Rasters: null
Child Resources:
Info
Histograms
Statistics
Key Properties
Legend
Raster Function Infos
Supported Operations:
Export Image
Identify
Measure
Compute Histograms
Compute Statistics Histograms
Get Samples
Compute Class Statistics
Query Boundary
Compute Pixel Location
Compute Angles
Validate
Project