View In:
ArcGIS JavaScript
ArcGIS Online Map Viewer
ArcGIS Earth
ArcMap
View Footprint In:
ArcGIS Online Map Viewer
Service Description: Historical map showing boundaries, major roads, lot and concession numbers, railways and populated areas.
Map date: Drawn 1963, Revised 1964
Digital reproduction of map (58 x 100 cm.) in the Brock University Map, Data & GIS Library collection.
Georeferenced and modified from Brock call# G 3462 S68 Lincoln by Map, Data and GIS Library, Brock University.
Name: EarlyNiagara/CountyofLincoln1964
Description: Historical map showing boundaries, major roads, lot and concession numbers, railways and populated areas.
Map date: Drawn 1963, Revised 1964
Digital reproduction of map (58 x 100 cm.) in the Brock University Map, Data & GIS Library collection.
Georeferenced and modified from Brock call# G 3462 S68 Lincoln by Map, Data and GIS Library, Brock University.
Single Fused Map Cache: false
Extent:
XMin: 593417.6873774301
YMin: 4748861.178162047
XMax: 663896.6673524302
YMax: 4796399.023587047
Spatial Reference: 26917
(26917)
Initial Extent:
XMin: 593417.6873774301
YMin: 4748861.178162047
XMax: 663896.6673524302
YMax: 4796399.023587047
Spatial Reference: 26917
(26917)
Full Extent:
XMin: 593417.6873774301
YMin: 4748861.178162047
XMax: 663896.6673524302
YMax: 4796399.023587047
Spatial Reference: 26917
(26917)
Pixel Size X: 2.961675000000001
Pixel Size Y: 2.961675000000026
Band Count: 1
Pixel Type: U16
RasterFunction Infos: {"rasterFunctionInfos": [{
"name": "None",
"description": "",
"help": ""
}]}
Mensuration Capabilities: Basic
Has Histograms: true
Has Colormap: false
Has Multi Dimensions : false
Rendering Rule:
Min Scale: 0
Max Scale: 0
Copyright Text: Ontario. Dept. of Highways
Drawn by Hunting Survey Corp. Ltd.
Map, Data & GIS Library, Brock University.
Service Data Type: esriImageServiceDataTypeGeneric
Min Values: 0
Max Values: 255
Mean Values: 239.21992896552
Standard Deviation Values: 49.065567365028
Object ID Field:
Fields:
None
Default Mosaic Method: Center
Allowed Mosaic Methods:
SortField:
SortValue: null
Mosaic Operator: First
Default Compression Quality: 75
Default Resampling Method: Bilinear
Max Record Count: null
Max Image Height: 4100
Max Image Width: 15000
Max Download Image Count: null
Max Mosaic Image Count: null
Allow Raster Function: true
Allow Copy: true
Allow Analysis: true
Allow Compute TiePoints: false
Supports Statistics: false
Supports Advanced Queries: false
Use StandardizedQueries: true
Raster Type Infos:
Name: Raster Dataset
Description: Supports all ArcGIS Raster Datasets
Help:
Has Raster Attribute Table: false
Edit Fields Info: null
Ownership Based AccessControl For Rasters: null
Child Resources:
Info
Histograms
Statistics
Key Properties
Legend
Raster Function Infos
Supported Operations:
Export Image
Identify
Measure
Compute Histograms
Compute Statistics Histograms
Get Samples
Compute Class Statistics
Query Boundary
Compute Pixel Location
Compute Angles
Validate
Project