View In:
ArcGIS JavaScript
ArcGIS Online Map Viewer
ArcGIS Earth
ArcMap
View Footprint In:
ArcGIS Online Map Viewer
Service Description: Historical map showing lot and concession boundaries, landowner names. "No.1" Includes later changes added to shoreline of map. Described in: Mapping Upper Canada, 1780-1867 / Joan Winearls. 1991. Reference no.: A201.
Name: EarlyNiagara/FortErie1790
Description: Historical map showing lot and concession boundaries, landowner names. "No.1" Includes later changes added to shoreline of map. Described in: Mapping Upper Canada, 1780-1867 / Joan Winearls. 1991. Reference no.: A201.
Single Fused Map Cache: false
Extent:
XMin: 652229.4891779555
YMin: 4744750.974474337
XMax: 671461.8026403277
YMax: 4759491.94849635
Spatial Reference: 26917
(26917)
Initial Extent:
XMin: 652229.4891779555
YMin: 4744750.974474337
XMax: 671461.8026403277
YMax: 4759491.94849635
Spatial Reference: 26917
(26917)
Full Extent:
XMin: 652229.4891779555
YMin: 4744750.974474337
XMax: 671461.8026403277
YMax: 4759491.94849635
Spatial Reference: 26917
(26917)
Pixel Size X: 2.765249958644453
Pixel Size Y: 2.8606586497211595
Band Count: 1
Pixel Type: U8
RasterFunction Infos: {"rasterFunctionInfos": [{
"name": "None",
"description": "",
"help": ""
}]}
Mensuration Capabilities: Basic
Has Histograms: true
Has Colormap: false
Has Multi Dimensions : false
Rendering Rule:
Min Scale: 0
Max Scale: 0
Copyright Text: Brock University Map, Data & GIS Library
Service Data Type: esriImageServiceDataTypeGeneric
Min Values: 0
Max Values: 255
Mean Values: 113.33580165134
Standard Deviation Values: 48.414025289173
Object ID Field:
Fields:
None
Default Mosaic Method: Center
Allowed Mosaic Methods:
SortField:
SortValue: null
Mosaic Operator: First
Default Compression Quality: 75
Default Resampling Method: Bilinear
Max Record Count: null
Max Image Height: 4100
Max Image Width: 15000
Max Download Image Count: null
Max Mosaic Image Count: null
Allow Raster Function: true
Allow Copy: true
Allow Analysis: true
Allow Compute TiePoints: false
Supports Statistics: false
Supports Advanced Queries: false
Use StandardizedQueries: true
Raster Type Infos:
Name: Raster Dataset
Description: Supports all ArcGIS Raster Datasets
Help:
Has Raster Attribute Table: false
Edit Fields Info: null
Ownership Based AccessControl For Rasters: null
Child Resources:
Info
Histograms
Statistics
Key Properties
Legend
Raster Function Infos
Supported Operations:
Export Image
Identify
Measure
Compute Histograms
Compute Statistics Histograms
Get Samples
Compute Class Statistics
Query Boundary
Compute Pixel Location
Compute Angles
Validate
Project