View In:
ArcGIS JavaScript
ArcGIS Online Map Viewer
ArcGIS Earth
ArcMap
View Footprint In:
ArcGIS Online Map Viewer
Service Description: Historical map showing lots for merchants along the shore south of Fort Erie
"G M No. 41" in top right corner.
Relief shown by shading.
Digital reproduction of map (14 3/4 x 21 1/4 in.) in the Public Archives of Canada. National Map Collection. Library and Archives Canada.
Georeferenced and modified from NMC Map number 5258 by Map, Data and GIS Library, Brock University.
Name: EarlyNiagara/FortErie1794NMC5258
Description: Historical map showing lots for merchants along the shore south of Fort Erie
"G M No. 41" in top right corner.
Relief shown by shading.
Digital reproduction of map (14 3/4 x 21 1/4 in.) in the Public Archives of Canada. National Map Collection. Library and Archives Canada.
Georeferenced and modified from NMC Map number 5258 by Map, Data and GIS Library, Brock University.
Single Fused Map Cache: false
Extent:
XMin: -8786099.966826484
YMin: 5294974.43091285
XMax: -8785412.437338484
YMax: 5296001.97342485
Spatial Reference: 102100
(3857)
Initial Extent:
XMin: -8786099.966826484
YMin: 5294974.43091285
XMax: -8785412.437338484
YMax: 5296001.97342485
Spatial Reference: 102100
(3857)
Full Extent:
XMin: -8786099.966826484
YMin: 5294974.43091285
XMax: -8785412.437338484
YMax: 5296001.97342485
Spatial Reference: 102100
(3857)
Pixel Size X: 0.21438399999973687
Pixel Size Y: 0.21438399999991803
Band Count: 1
Pixel Type: U16
RasterFunction Infos: {"rasterFunctionInfos": [{
"name": "None",
"description": "",
"help": ""
}]}
Mensuration Capabilities: Basic
Has Histograms: true
Has Colormap: false
Has Multi Dimensions : false
Rendering Rule:
Min Scale: 0
Max Scale: 0
Copyright Text: Map, Data & GIS Library, Brock University.
Service Data Type: esriImageServiceDataTypeGeneric
Min Values: 5
Max Values: 254
Mean Values: 184.71760242963
Standard Deviation Values: 32.334011750837
Object ID Field:
Fields:
None
Default Mosaic Method: Center
Allowed Mosaic Methods:
SortField:
SortValue: null
Mosaic Operator: First
Default Compression Quality: 75
Default Resampling Method: Bilinear
Max Record Count: null
Max Image Height: 4100
Max Image Width: 15000
Max Download Image Count: null
Max Mosaic Image Count: null
Allow Raster Function: true
Allow Copy: true
Allow Analysis: true
Allow Compute TiePoints: false
Supports Statistics: false
Supports Advanced Queries: false
Use StandardizedQueries: true
Raster Type Infos:
Name: Raster Dataset
Description: Supports all ArcGIS Raster Datasets
Help:
Has Raster Attribute Table: false
Edit Fields Info: null
Ownership Based AccessControl For Rasters: null
Child Resources:
Info
Histograms
Statistics
Key Properties
Legend
Raster Function Infos
Supported Operations:
Export Image
Identify
Measure
Compute Histograms
Compute Statistics Histograms
Get Samples
Compute Class Statistics
Query Boundary
Compute Pixel Location
Compute Angles
Validate
Project