View In:
ArcGIS JavaScript
ArcGIS Online Map Viewer
ArcGIS Earth
ArcMap
View Footprint In:
ArcGIS Online Map Viewer
Service Description: Historical map showing the fort, buildings, lots, "American lines", "Boundary of military reserve", vegetation.
(Signed by) A. Walpole and Henry Vavasour.
Relief shown by landform drawings.
Digital reproduction of map (52 x 80 in) in the National Map Collection, Library and Archives Canada
Georeferenced and modified from NMC Map number 22342 by Map, Data & GIS Library, Brock University.
Name: EarlyNiagara/FortErie1819NMC22342geo
Description: Historical map showing the fort, buildings, lots, "American lines", "Boundary of military reserve", vegetation.
(Signed by) A. Walpole and Henry Vavasour.
Relief shown by landform drawings.
Digital reproduction of map (52 x 80 in) in the National Map Collection, Library and Archives Canada
Georeferenced and modified from NMC Map number 22342 by Map, Data & GIS Library, Brock University.
Single Fused Map Cache: false
Extent:
XMin: -8789288.236163536
YMin: 5293469.810598166
XMax: -8783370.986975536
YMax: 5299200.383064166
Spatial Reference: 102100
(3857)
Initial Extent:
XMin: -8789288.236163536
YMin: 5293469.810598166
XMax: -8783370.986975536
YMax: 5299200.383064166
Spatial Reference: 102100
(3857)
Full Extent:
XMin: -8789288.236163536
YMin: 5293469.810598166
XMax: -8783370.986975536
YMax: 5299200.383064166
Spatial Reference: 102100
(3857)
Pixel Size X: 1.3429980000000763
Pixel Size Y: 1.3429979999999961
Band Count: 1
Pixel Type: U16
RasterFunction Infos: {"rasterFunctionInfos": [{
"name": "None",
"description": "",
"help": ""
}]}
Mensuration Capabilities: Basic
Has Histograms: true
Has Colormap: false
Has Multi Dimensions : false
Rendering Rule:
Min Scale: 0
Max Scale: 0
Copyright Text: Map, Data & GIS Library, Brock University.
Service Data Type: esriImageServiceDataTypeGeneric
Min Values: 20
Max Values: 245
Mean Values: 165.27370932467
Standard Deviation Values: 23.751001945214
Object ID Field:
Fields:
None
Default Mosaic Method: Center
Allowed Mosaic Methods:
SortField:
SortValue: null
Mosaic Operator: First
Default Compression Quality: 75
Default Resampling Method: Bilinear
Max Record Count: null
Max Image Height: 4100
Max Image Width: 15000
Max Download Image Count: null
Max Mosaic Image Count: null
Allow Raster Function: true
Allow Copy: true
Allow Analysis: true
Allow Compute TiePoints: false
Supports Statistics: false
Supports Advanced Queries: false
Use StandardizedQueries: true
Raster Type Infos:
Name: Raster Dataset
Description: Supports all ArcGIS Raster Datasets
Help:
Has Raster Attribute Table: false
Edit Fields Info: null
Ownership Based AccessControl For Rasters: null
Child Resources:
Info
Histograms
Statistics
Key Properties
Legend
Raster Function Infos
Supported Operations:
Export Image
Identify
Measure
Compute Histograms
Compute Statistics Histograms
Get Samples
Compute Class Statistics
Query Boundary
Compute Pixel Location
Compute Angles
Validate
Project