View In:
ArcGIS JavaScript
ArcGIS Online Map Viewer
ArcGIS Earth
ArcMap
View Footprint In:
ArcGIS Online Map Viewer
Service Description: Historical map showing the "ruins of Fort Erie", numbered lots, surrounding "wood land", reference key to landowners and property details.
Digital reproduction of map (28 3/4 x 29 1/4 in.) in the Public Archives of Canada. National Map Collection. Library and Archives Canada.
Relief shown by shading.
Georeferenced and modified from NMC Map number 22343 by Map, Data and GIS Library, Brock University.
Name: EarlyNiagara/FortErie1850NMC22343
Description: Historical map showing the "ruins of Fort Erie", numbered lots, surrounding "wood land", reference key to landowners and property details.
Digital reproduction of map (28 3/4 x 29 1/4 in.) in the Public Archives of Canada. National Map Collection. Library and Archives Canada.
Relief shown by shading.
Georeferenced and modified from NMC Map number 22343 by Map, Data and GIS Library, Brock University.
Single Fused Map Cache: false
Extent:
XMin: 667861.9757451761
YMin: 4749309.440711284
XMax: 671548.7087171761
YMax: 4752928.211605284
Spatial Reference: 26917
(26917)
Initial Extent:
XMin: 667861.9757451761
YMin: 4749309.440711284
XMax: 671548.7087171761
YMax: 4752928.211605284
Spatial Reference: 26917
(26917)
Full Extent:
XMin: 667861.9757451761
YMin: 4749309.440711284
XMax: 671548.7087171761
YMax: 4752928.211605284
Spatial Reference: 26917
(26917)
Pixel Size X: 0.8390380000000062
Pixel Size Y: 0.8390380000000711
Band Count: 1
Pixel Type: U16
RasterFunction Infos: {"rasterFunctionInfos": [{
"name": "None",
"description": "",
"help": ""
}]}
Mensuration Capabilities: Basic
Has Histograms: true
Has Colormap: false
Has Multi Dimensions : false
Rendering Rule:
Min Scale: 0
Max Scale: 0
Copyright Text: From a survey made by ...S. Freeth Copy J. NightingaleSigned Henry VavasourSigned Alex GordonMap, Data & GIS Library, Brock University.
Service Data Type: esriImageServiceDataTypeGeneric
Min Values: 12
Max Values: 255
Mean Values: 163.22885737016
Standard Deviation Values: 41.777768800587
Object ID Field:
Fields:
None
Default Mosaic Method: Center
Allowed Mosaic Methods:
SortField:
SortValue: null
Mosaic Operator: First
Default Compression Quality: 75
Default Resampling Method: Bilinear
Max Record Count: null
Max Image Height: 4100
Max Image Width: 15000
Max Download Image Count: null
Max Mosaic Image Count: null
Allow Raster Function: true
Allow Copy: true
Allow Analysis: true
Allow Compute TiePoints: false
Supports Statistics: false
Supports Advanced Queries: false
Use StandardizedQueries: true
Raster Type Infos:
Name: Raster Dataset
Description: Supports all ArcGIS Raster Datasets
Help:
Has Raster Attribute Table: false
Edit Fields Info: null
Ownership Based AccessControl For Rasters: null
Child Resources:
Info
Histograms
Statistics
Key Properties
Legend
Raster Function Infos
Supported Operations:
Export Image
Identify
Measure
Compute Histograms
Compute Statistics Histograms
Get Samples
Compute Class Statistics
Query Boundary
Compute Pixel Location
Compute Angles
Validate
Project