View In:
ArcGIS JavaScript
ArcGIS Online Map Viewer
ArcGIS Earth
ArcMap
View Footprint In:
ArcGIS Online Map Viewer
Service Description: Map showing the streets and lot numbers and measurements of the Villiage of Fort Erie, Erie Beach and Waverly beach to the south. Oriented with north to the top right. At head of title: Hydro-Electric Power Commission of Ontario. Railway Dept. "map no. S-222A"
Name: EarlyNiagara/FortErie1919
Description: Map showing the streets and lot numbers and measurements of the Villiage of Fort Erie, Erie Beach and Waverly beach to the south. Oriented with north to the top right. At head of title: Hydro-Electric Power Commission of Ontario. Railway Dept. "map no. S-222A"
Single Fused Map Cache: false
Extent:
XMin: 667347.3880545979
YMin: 4749161.021566672
XMax: 671877.9092786461
YMax: 4754031.114999047
Spatial Reference: 26917
(26917)
Initial Extent:
XMin: 667347.3880545979
YMin: 4749161.021566672
XMax: 671877.9092786461
YMax: 4754031.114999047
Spatial Reference: 26917
(26917)
Full Extent:
XMin: 667347.3880545979
YMin: 4749161.021566672
XMax: 671877.9092786461
YMax: 4754031.114999047
Spatial Reference: 26917
(26917)
Pixel Size X: 0.29720029021570593
Pixel Size Y: 1.2433222957299717
Band Count: 1
Pixel Type: U8
RasterFunction Infos: {"rasterFunctionInfos": [{
"name": "None",
"description": "",
"help": ""
}]}
Mensuration Capabilities: Basic
Has Histograms: true
Has Colormap: false
Has Multi Dimensions : false
Rendering Rule:
Min Scale: 0
Max Scale: 0
Copyright Text: Brock University Map, Data & GIS Library
Service Data Type: esriImageServiceDataTypeGeneric
Min Values: 0
Max Values: 255
Mean Values: 216.47890486983
Standard Deviation Values: 49.362932820902
Object ID Field:
Fields:
None
Default Mosaic Method: Center
Allowed Mosaic Methods:
SortField:
SortValue: null
Mosaic Operator: First
Default Compression Quality: 75
Default Resampling Method: Bilinear
Max Record Count: null
Max Image Height: 4100
Max Image Width: 15000
Max Download Image Count: null
Max Mosaic Image Count: null
Allow Raster Function: true
Allow Copy: true
Allow Analysis: true
Allow Compute TiePoints: false
Supports Statistics: false
Supports Advanced Queries: false
Use StandardizedQueries: true
Raster Type Infos:
Name: Raster Dataset
Description: Supports all ArcGIS Raster Datasets
Help:
Has Raster Attribute Table: false
Edit Fields Info: null
Ownership Based AccessControl For Rasters: null
Child Resources:
Info
Histograms
Statistics
Key Properties
Legend
Raster Function Infos
Supported Operations:
Export Image
Identify
Measure
Compute Histograms
Compute Statistics Histograms
Get Samples
Compute Class Statistics
Query Boundary
Compute Pixel Location
Compute Angles
Validate
Project