View In:
ArcGIS JavaScript
ArcGIS Online Map Viewer
ArcGIS Earth
ArcMap
View Footprint In:
ArcGIS Online Map Viewer
Service Description: Map showing roads, transportation and cultural features, government buildings, water pumphouse, legend. Oriented with north to the right. "This is a revised plan composed of existing surveys and records as per Oct. 1960 drawn by W. F. Kuehmle, under the supervision of K. A. J. Williams."
Name: EarlyNiagara/FortErie1960
Description: Map showing roads, transportation and cultural features, government buildings, water pumphouse, legend. Oriented with north to the right. "This is a revised plan composed of existing surveys and records as per Oct. 1960 drawn by W. F. Kuehmle, under the supervision of K. A. J. Williams."
Single Fused Map Cache: false
Extent:
XMin: 668031.4706069737
YMin: 4749384.50267506
XMax: 671107.6837881522
YMax: 4756310.363539639
Spatial Reference: 26917
(26917)
Initial Extent:
XMin: 668031.4706069737
YMin: 4749384.50267506
XMax: 671107.6837881522
YMax: 4756310.363539639
Spatial Reference: 26917
(26917)
Full Extent:
XMin: 668031.4706069737
YMin: 4749384.50267506
XMax: 671107.6837881522
YMax: 4756310.363539639
Spatial Reference: 26917
(26917)
Pixel Size X: 0.5691421241773237
Pixel Size Y: 3.056425800784972
Band Count: 3
Pixel Type: U8
RasterFunction Infos: {"rasterFunctionInfos": [{
"name": "None",
"description": "",
"help": ""
}]}
Mensuration Capabilities: Basic
Has Histograms: true
Has Colormap: false
Has Multi Dimensions : false
Rendering Rule:
Min Scale: 0
Max Scale: 0
Copyright Text: Brock University Map, Data & GIS Library
Service Data Type: esriImageServiceDataTypeRGB
Min Values: 0, 0, 0
Max Values: 255, 255, 255
Mean Values: 213.13737345613, 205.94780649149, 178.21898466083
Standard Deviation Values: 64.28284045664, 62.160434131951, 56.504916122986
Object ID Field:
Fields:
None
Default Mosaic Method: Center
Allowed Mosaic Methods:
SortField:
SortValue: null
Mosaic Operator: First
Default Compression Quality: 75
Default Resampling Method: Bilinear
Max Record Count: null
Max Image Height: 4100
Max Image Width: 15000
Max Download Image Count: null
Max Mosaic Image Count: null
Allow Raster Function: true
Allow Copy: true
Allow Analysis: true
Allow Compute TiePoints: false
Supports Statistics: false
Supports Advanced Queries: false
Use StandardizedQueries: true
Raster Type Infos:
Name: Raster Dataset
Description: Supports all ArcGIS Raster Datasets
Help:
Has Raster Attribute Table: false
Edit Fields Info: null
Ownership Based AccessControl For Rasters: null
Child Resources:
Info
Histograms
Statistics
Key Properties
Legend
Raster Function Infos
Supported Operations:
Export Image
Identify
Measure
Compute Histograms
Compute Statistics Histograms
Get Samples
Compute Class Statistics
Query Boundary
Compute Pixel Location
Compute Angles
Validate
Project