View In:
ArcGIS JavaScript
ArcGIS Online Map Viewer
ArcGIS Earth
ArcMap
View Footprint In:
ArcGIS Online Map Viewer
Service Description: Scanned historical map of Grantham Township, 1876 from Page's Atlas.
Name: EarlyNiagara/Grantham1876
Description: Scanned historical map of Grantham Township, 1876 from Page's Atlas.
Single Fused Map Cache: false
Extent:
XMin: 638875.8113482954
YMin: 4773288.238849008
XMax: 650476.7335482955
YMax: 4789849.076289008
Spatial Reference: 26917
(26917)
Initial Extent:
XMin: 638875.8113482954
YMin: 4773288.238849008
XMax: 650476.7335482955
YMax: 4789849.076289008
Spatial Reference: 26917
(26917)
Full Extent:
XMin: 638875.8113482954
YMin: 4773288.238849008
XMax: 650476.7335482955
YMax: 4789849.076289008
Spatial Reference: 26917
(26917)
Pixel Size X: 3.473330000000009
Pixel Size Y: 3.4733299999999825
Band Count: 1
Pixel Type: U16
RasterFunction Infos: {"rasterFunctionInfos": [{
"name": "None",
"description": "",
"help": ""
}]}
Mensuration Capabilities: Basic
Has Histograms: true
Has Colormap: false
Has Multi Dimensions : false
Rendering Rule:
Min Scale: 0
Max Scale: 0
Copyright Text:
Service Data Type: esriImageServiceDataTypeGeneric
Min Values: 41
Max Values: 255
Mean Values: 222.60273849559
Standard Deviation Values: 40.548281624348
Object ID Field:
Fields:
None
Default Mosaic Method: Center
Allowed Mosaic Methods:
SortField:
SortValue: null
Mosaic Operator: First
Default Compression Quality: 75
Default Resampling Method: Bilinear
Max Record Count: null
Max Image Height: 4100
Max Image Width: 15000
Max Download Image Count: null
Max Mosaic Image Count: null
Allow Raster Function: true
Allow Copy: true
Allow Analysis: true
Allow Compute TiePoints: false
Supports Statistics: false
Supports Advanced Queries: false
Use StandardizedQueries: true
Raster Type Infos:
Name: Raster Dataset
Description: Supports all ArcGIS Raster Datasets
Help:
Has Raster Attribute Table: false
Edit Fields Info: null
Ownership Based AccessControl For Rasters: null
Child Resources:
Info
Histograms
Statistics
Key Properties
Legend
Raster Function Infos
Supported Operations:
Export Image
Identify
Measure
Compute Histograms
Compute Statistics Histograms
Get Samples
Compute Class Statistics
Query Boundary
Compute Pixel Location
Compute Angles
Validate
Project