View In:
ArcGIS JavaScript
ArcGIS Online Map Viewer
ArcGIS Earth
ArcMap
View Footprint In:
ArcGIS Online Map Viewer
Service Description: Lincoln 1791
Name: EarlyNiagara/Lincoln1791
Description: Lincoln 1791
Single Fused Map Cache: false
Extent:
XMin: -8851393.381156879
YMin: 5325265.632220159
XMax: -8835757.140676878
YMax: 5348761.740184159
Spatial Reference: 102100
(3857)
Initial Extent:
XMin: -8851393.381156879
YMin: 5325265.632220159
XMax: -8835757.140676878
YMax: 5348761.740184159
Spatial Reference: 102100
(3857)
Full Extent:
XMin: -8851393.381156879
YMin: 5325265.632220159
XMax: -8835757.140676878
YMax: 5348761.740184159
Spatial Reference: 102100
(3857)
Pixel Size X: 3.7952040000000373
Pixel Size Y: 3.795203999999957
Band Count: 1
Pixel Type: U16
RasterFunction Infos: {"rasterFunctionInfos": [{
"name": "None",
"description": "",
"help": ""
}]}
Mensuration Capabilities: Basic
Has Histograms: true
Has Colormap: false
Has Multi Dimensions : false
Rendering Rule:
Min Scale: 0
Max Scale: 0
Copyright Text:
Service Data Type: esriImageServiceDataTypeGeneric
Min Values: 0
Max Values: 255
Mean Values: 193.06065356327
Standard Deviation Values: 61.330878152191
Object ID Field:
Fields:
None
Default Mosaic Method: Center
Allowed Mosaic Methods:
SortField:
SortValue: null
Mosaic Operator: First
Default Compression Quality: 75
Default Resampling Method: Bilinear
Max Record Count: null
Max Image Height: 4100
Max Image Width: 15000
Max Download Image Count: null
Max Mosaic Image Count: null
Allow Raster Function: true
Allow Copy: true
Allow Analysis: true
Allow Compute TiePoints: false
Supports Statistics: false
Supports Advanced Queries: false
Use StandardizedQueries: true
Raster Type Infos:
Name: Raster Dataset
Description: Supports all ArcGIS Raster Datasets
Help:
Has Raster Attribute Table: false
Edit Fields Info: null
Ownership Based AccessControl For Rasters: null
Child Resources:
Info
Histograms
Statistics
Key Properties
Legend
Raster Function Infos
Supported Operations:
Export Image
Identify
Measure
Compute Histograms
Compute Statistics Histograms
Get Samples
Compute Class Statistics
Query Boundary
Compute Pixel Location
Compute Angles
Validate
Project