View In:
ArcGIS JavaScript
ArcGIS Online Map Viewer
ArcGIS Earth
ArcMap
View Footprint In:
ArcGIS Online Map Viewer
Service Description: Historical map showing electoral boundaries for the census of 1921. Shows geographic coverage of Niagara, Grantham, Louth, Clinton, Grimsby, Caistor and Gainsborough.
Name: EarlyNiagara/Lincoln1921
Description: Historical map showing electoral boundaries for the census of 1921. Shows geographic coverage of Niagara, Grantham, Louth, Clinton, Grimsby, Caistor and Gainsborough.
Single Fused Map Cache: false
Extent:
XMin: -8887941.664452733
YMin: 5281259.527120148
XMax: -8780485.959078733
YMax: 5374201.8903981475
Spatial Reference: 102100
(3857)
Initial Extent:
XMin: -8887941.664452733
YMin: 5281259.527120148
XMax: -8780485.959078733
YMax: 5374201.8903981475
Spatial Reference: 102100
(3857)
Full Extent:
XMin: -8887941.664452733
YMin: 5281259.527120148
XMax: -8780485.959078733
YMax: 5374201.8903981475
Spatial Reference: 102100
(3857)
Pixel Size X: 14.993122000000083
Pixel Size Y: 14.99312199999995
Band Count: 1
Pixel Type: U16
RasterFunction Infos: {"rasterFunctionInfos": [{
"name": "None",
"description": "",
"help": ""
}]}
Mensuration Capabilities: Basic
Has Histograms: true
Has Colormap: false
Has Multi Dimensions : false
Rendering Rule:
Min Scale: 0
Max Scale: 0
Copyright Text: Brock University Map, Data & GIS Library
Service Data Type: esriImageServiceDataTypeGeneric
Min Values: 0
Max Values: 255
Mean Values: 199.30486197873
Standard Deviation Values: 57.377206739055
Object ID Field:
Fields:
None
Default Mosaic Method: Center
Allowed Mosaic Methods:
SortField:
SortValue: null
Mosaic Operator: First
Default Compression Quality: 75
Default Resampling Method: Bilinear
Max Record Count: null
Max Image Height: 4100
Max Image Width: 15000
Max Download Image Count: null
Max Mosaic Image Count: null
Allow Raster Function: true
Allow Copy: true
Allow Analysis: true
Allow Compute TiePoints: false
Supports Statistics: false
Supports Advanced Queries: false
Use StandardizedQueries: true
Raster Type Infos:
Name: Raster Dataset
Description: Supports all ArcGIS Raster Datasets
Help:
Has Raster Attribute Table: false
Edit Fields Info: null
Ownership Based AccessControl For Rasters: null
Child Resources:
Info
Histograms
Statistics
Key Properties
Legend
Raster Function Infos
Supported Operations:
Export Image
Identify
Measure
Compute Histograms
Compute Statistics Histograms
Get Samples
Compute Class Statistics
Query Boundary
Compute Pixel Location
Compute Angles
Validate
Project