View In:
ArcGIS JavaScript
ArcGIS Online Map Viewer
ArcGIS Earth
ArcMap
View Footprint In:
ArcGIS Online Map Viewer
Service Description: Historical map showing major roads, boundaries, towns and villages, lots and concessions.
Name: EarlyNiagara/Lincoln1932
Description: Historical map showing major roads, boundaries, towns and villages, lots and concessions.
Single Fused Map Cache: false
Extent:
XMin: -8890526.315033901
YMin: 5285766.495715994
XMax: -8786251.827429902
YMax: 5366352.483391995
Spatial Reference: 102100
(3857)
Initial Extent:
XMin: -8890526.315033901
YMin: 5285766.495715994
XMax: -8786251.827429902
YMax: 5366352.483391995
Spatial Reference: 102100
(3857)
Full Extent:
XMin: -8890526.315033901
YMin: 5285766.495715994
XMax: -8786251.827429902
YMax: 5366352.483391995
Spatial Reference: 102100
(3857)
Pixel Size X: 17.341507999999944
Pixel Size Y: 17.341508000000047
Band Count: 3
Pixel Type: U16
RasterFunction Infos: {"rasterFunctionInfos": [{
"name": "None",
"description": "",
"help": ""
}]}
Mensuration Capabilities: Basic
Has Histograms: true
Has Colormap: false
Has Multi Dimensions : false
Rendering Rule:
Min Scale: 0
Max Scale: 0
Copyright Text: Brock University Map, Data & GIS Library
Service Data Type: esriImageServiceDataTypeGeneric
Min Values: 0, 0, 0
Max Values: 249, 239, 217
Mean Values: 185.7803883105, 171.67145814223, 126.16855694268
Standard Deviation Values: 54.209221700045, 52.156164910608, 46.75948750863
Object ID Field:
Fields:
None
Default Mosaic Method: Center
Allowed Mosaic Methods:
SortField:
SortValue: null
Mosaic Operator: First
Default Compression Quality: 75
Default Resampling Method: Bilinear
Max Record Count: null
Max Image Height: 4100
Max Image Width: 15000
Max Download Image Count: null
Max Mosaic Image Count: null
Allow Raster Function: true
Allow Copy: true
Allow Analysis: true
Allow Compute TiePoints: false
Supports Statistics: false
Supports Advanced Queries: false
Use StandardizedQueries: true
Raster Type Infos:
Name: Raster Dataset
Description: Supports all ArcGIS Raster Datasets
Help:
Has Raster Attribute Table: false
Edit Fields Info: null
Ownership Based AccessControl For Rasters: null
Child Resources:
Info
Histograms
Statistics
Key Properties
Legend
Raster Function Infos
Supported Operations:
Export Image
Identify
Measure
Compute Histograms
Compute Statistics Histograms
Get Samples
Compute Class Statistics
Query Boundary
Compute Pixel Location
Compute Angles
Validate
Project