View In:
ArcGIS JavaScript
ArcGIS Online Map Viewer
ArcGIS Earth
ArcMap
View Footprint In:
ArcGIS Online Map Viewer
Service Description: Historical map showing the plan of Montebello Park, St. Catharines.
Digital reproduction of map (64 x 43 cm.)
Georeferenced and modified by Map, Data and GIS Library, Brock University.
Name: EarlyNiagara/Montebello1887
Description: Historical map showing the plan of Montebello Park, St. Catharines.
Digital reproduction of map (64 x 43 cm.)
Georeferenced and modified by Map, Data and GIS Library, Brock University.
Single Fused Map Cache: false
Extent:
XMin: -8822464.820277419
YMin: 5335750.161674677
XMax: -8821900.05730242
YMax: 5336359.146974677
Spatial Reference: 102100
(3857)
Initial Extent:
XMin: -8822464.820277419
YMin: 5335750.161674677
XMax: -8821900.05730242
YMax: 5336359.146974677
Spatial Reference: 102100
(3857)
Full Extent:
XMin: -8822464.820277419
YMin: 5335750.161674677
XMax: -8821900.05730242
YMax: 5336359.146974677
Spatial Reference: 102100
(3857)
Pixel Size X: 0.11252499999996912
Pixel Size Y: 0.11252499999996779
Band Count: 1
Pixel Type: U16
RasterFunction Infos: {"rasterFunctionInfos": [{
"name": "None",
"description": "",
"help": ""
}]}
Mensuration Capabilities: Basic
Has Histograms: true
Has Colormap: false
Has Multi Dimensions : false
Rendering Rule:
Min Scale: 0
Max Scale: 0
Copyright Text: Map, Data & GIS Library, Brock University.
Service Data Type: esriImageServiceDataTypeGeneric
Min Values: 50
Max Values: 243
Mean Values: 217.37183177251
Standard Deviation Values: 26.397800973901
Object ID Field:
Fields:
None
Default Mosaic Method: Center
Allowed Mosaic Methods:
SortField:
SortValue: null
Mosaic Operator: First
Default Compression Quality: 75
Default Resampling Method: Bilinear
Max Record Count: null
Max Image Height: 4100
Max Image Width: 15000
Max Download Image Count: null
Max Mosaic Image Count: null
Allow Raster Function: true
Allow Copy: true
Allow Analysis: true
Allow Compute TiePoints: false
Supports Statistics: false
Supports Advanced Queries: false
Use StandardizedQueries: true
Raster Type Infos:
Name: Raster Dataset
Description: Supports all ArcGIS Raster Datasets
Help:
Has Raster Attribute Table: false
Edit Fields Info: null
Ownership Based AccessControl For Rasters: null
Child Resources:
Info
Histograms
Statistics
Key Properties
Legend
Raster Function Infos
Supported Operations:
Export Image
Identify
Measure
Compute Histograms
Compute Statistics Histograms
Get Samples
Compute Class Statistics
Query Boundary
Compute Pixel Location
Compute Angles
Validate
Project