View In:
ArcGIS JavaScript
ArcGIS Online Map Viewer
ArcGIS Earth
ArcMap
View Footprint In:
ArcGIS Online Map Viewer
Service Description: Historical map showing Navy Island, Buckhorn Island and Grand Island. Shows the island four days after W.L. Mackenzie vacated after the Regellion of 1837; relief, trees, builldings, 'Rebel Hospital' shown on Grand Island and batteries located on Canadian side opposite Navy Island.
Scale: 1 inch to 400 yards
Digital reproduction of map (9 1/4 x 14 3/4 in.) in the Public Archives of Canada. National Map Collection. Library and Archives Canada.
Georeferenced and modified from NMC Map number 4202 by Map, Data and GIS Library, Brock University.
Name: EarlyNiagara/NavyIslandNiagaraFalls1838NMC4202
Description: Historical map showing Navy Island, Buckhorn Island and Grand Island. Shows the island four days after W.L. Mackenzie vacated after the Regellion of 1837; relief, trees, builldings, 'Rebel Hospital' shown on Grand Island and batteries located on Canadian side opposite Navy Island.
Scale: 1 inch to 400 yards
Digital reproduction of map (9 1/4 x 14 3/4 in.) in the Public Archives of Canada. National Map Collection. Library and Archives Canada.
Georeferenced and modified from NMC Map number 4202 by Map, Data and GIS Library, Brock University.
Single Fused Map Cache: false
Extent:
XMin: 659034.9832065406
YMin: 4766000.785650584
XMax: 665038.4583305406
YMax: 4772178.970854584
Spatial Reference: 26917
(26917)
Initial Extent:
XMin: 659034.9832065406
YMin: 4766000.785650584
XMax: 665038.4583305406
YMax: 4772178.970854584
Spatial Reference: 26917
(26917)
Full Extent:
XMin: 659034.9832065406
YMin: 4766000.785650584
XMax: 665038.4583305406
YMax: 4772178.970854584
Spatial Reference: 26917
(26917)
Pixel Size X: 1.091937999999998
Pixel Size Y: 1.0919380000000376
Band Count: 1
Pixel Type: U16
RasterFunction Infos: {"rasterFunctionInfos": [{
"name": "None",
"description": "",
"help": ""
}]}
Mensuration Capabilities: Basic
Has Histograms: true
Has Colormap: false
Has Multi Dimensions : false
Rendering Rule:
Min Scale: 0
Max Scale: 0
Copyright Text: ["signed"]
Service Data Type: esriImageServiceDataTypeGeneric
Min Values: 12
Max Values: 252
Mean Values: 198.97278541873
Standard Deviation Values: 21.850597532725
Object ID Field:
Fields:
None
Default Mosaic Method: Center
Allowed Mosaic Methods:
SortField:
SortValue: null
Mosaic Operator: First
Default Compression Quality: 75
Default Resampling Method: Bilinear
Max Record Count: null
Max Image Height: 4100
Max Image Width: 15000
Max Download Image Count: null
Max Mosaic Image Count: null
Allow Raster Function: true
Allow Copy: true
Allow Analysis: true
Allow Compute TiePoints: false
Supports Statistics: false
Supports Advanced Queries: false
Use StandardizedQueries: true
Raster Type Infos:
Name: Raster Dataset
Description: Supports all ArcGIS Raster Datasets
Help:
Has Raster Attribute Table: false
Edit Fields Info: null
Ownership Based AccessControl For Rasters: null
Child Resources:
Info
Histograms
Statistics
Key Properties
Legend
Raster Function Infos
Supported Operations:
Export Image
Identify
Measure
Compute Histograms
Compute Statistics Histograms
Get Samples
Compute Class Statistics
Query Boundary
Compute Pixel Location
Compute Angles
Validate
Project