View In:
ArcGIS JavaScript
ArcGIS Online Map Viewer
ArcGIS Earth
ArcMap
View Footprint In:
ArcGIS Online Map Viewer
Service Description: Historical map showing boundary and transportation features, lot and concession numbers, rivers, line of Second and Third Welland Canal and populated places. Relief shown by hachures. Page numbers "10" and "11" in top corners. Photoreproduction from 1876 atlas; Illustrated historical atlas of the counties of Lincoln and Welland, Ont. / compiled, drawn and published from personal examinations and surveys by H. R. Page.
Name: EarlyNiagara/Niagara1876
Description: Historical map showing boundary and transportation features, lot and concession numbers, rivers, line of Second and Third Welland Canal and populated places. Relief shown by hachures. Page numbers "10" and "11" in top corners. Photoreproduction from 1876 atlas; Illustrated historical atlas of the counties of Lincoln and Welland, Ont. / compiled, drawn and published from personal examinations and surveys by H. R. Page.
Single Fused Map Cache: false
Extent:
XMin: -8902467.142176358
YMin: 5282398.552880793
XMax: -8779325.906751359
YMax: 5358853.310480793
Spatial Reference: 102100
(3857)
Initial Extent:
XMin: -8902467.142176358
YMin: 5282398.552880793
XMax: -8779325.906751359
YMax: 5358853.310480793
Spatial Reference: 102100
(3857)
Full Extent:
XMin: -8902467.142176358
YMin: 5282398.552880793
XMax: -8779325.906751359
YMax: 5358853.310480793
Spatial Reference: 102100
(3857)
Pixel Size X: 12.914654999999911
Pixel Size Y: 12.914655000000021
Band Count: 1
Pixel Type: U32
RasterFunction Infos: {"rasterFunctionInfos": [{
"name": "None",
"description": "",
"help": ""
}]}
Mensuration Capabilities: Basic
Has Histograms: true
Has Colormap: false
Has Multi Dimensions : false
Rendering Rule:
Min Scale: 0
Max Scale: 0
Copyright Text: Brock University Map, Data & GIS Library
Service Data Type: esriImageServiceDataTypeGeneric
Min Values: 2
Max Values: 65534
Mean Values: 40086.277259952
Standard Deviation Values: 14673.13906287
Object ID Field:
Fields:
None
Default Mosaic Method: Center
Allowed Mosaic Methods:
SortField:
SortValue: null
Mosaic Operator: First
Default Compression Quality: 75
Default Resampling Method: Bilinear
Max Record Count: null
Max Image Height: 4100
Max Image Width: 15000
Max Download Image Count: null
Max Mosaic Image Count: null
Allow Raster Function: true
Allow Copy: true
Allow Analysis: true
Allow Compute TiePoints: false
Supports Statistics: false
Supports Advanced Queries: false
Use StandardizedQueries: true
Raster Type Infos:
Name: Raster Dataset
Description: Supports all ArcGIS Raster Datasets
Help:
Has Raster Attribute Table: false
Edit Fields Info: null
Ownership Based AccessControl For Rasters: null
Child Resources:
Info
Histograms
Statistics
Key Properties
Legend
Raster Function Infos
Supported Operations:
Export Image
Identify
Measure
Compute Histograms
Compute Statistics Histograms
Get Samples
Compute Class Statistics
Query Boundary
Compute Pixel Location
Compute Angles
Validate
Project