View In:
ArcGIS JavaScript
ArcGIS Online Map Viewer
ArcGIS Earth
ArcMap
View Footprint In:
ArcGIS Online Map Viewer
Service Description: Historical map showing street names, some buildings and "Horseshoe Falls". "Copy by C.B.W. 1942"
Name: EarlyNiagara/NiagaraFalls1833_1842
Description: Historical map showing street names, some buildings and "Horseshoe Falls". "Copy by C.B.W. 1942"
Single Fused Map Cache: false
Extent:
XMin: 654501.6029667475
YMin: 4770945.03644784
XMax: 656888.935052237
YMax: 4772795.564282199
Spatial Reference: 26917
(26917)
Initial Extent:
XMin: 654501.6029667475
YMin: 4770945.03644784
XMax: 656888.935052237
YMax: 4772795.564282199
Spatial Reference: 26917
(26917)
Full Extent:
XMin: 654501.6029667475
YMin: 4770945.03644784
XMax: 656888.935052237
YMax: 4772795.564282199
Spatial Reference: 26917
(26917)
Pixel Size X: 0.25817368719471484
Pixel Size Y: 0.2587788888770181
Band Count: 1
Pixel Type: U8
RasterFunction Infos: {"rasterFunctionInfos": [{
"name": "None",
"description": "",
"help": ""
}]}
Mensuration Capabilities: Basic
Has Histograms: true
Has Colormap: false
Has Multi Dimensions : false
Rendering Rule:
Min Scale: 0
Max Scale: 0
Copyright Text: Brock University Map, Data & GIS Library
Service Data Type: esriImageServiceDataTypeGeneric
Min Values: 0
Max Values: 233
Mean Values: 203.93445330009
Standard Deviation Values: 30.750650433427
Object ID Field:
Fields:
None
Default Mosaic Method: Center
Allowed Mosaic Methods:
SortField:
SortValue: null
Mosaic Operator: First
Default Compression Quality: 75
Default Resampling Method: Bilinear
Max Record Count: null
Max Image Height: 4100
Max Image Width: 15000
Max Download Image Count: null
Max Mosaic Image Count: null
Allow Raster Function: true
Allow Copy: true
Allow Analysis: true
Allow Compute TiePoints: false
Supports Statistics: false
Supports Advanced Queries: false
Use StandardizedQueries: true
Raster Type Infos:
Name: Raster Dataset
Description: Supports all ArcGIS Raster Datasets
Help:
Has Raster Attribute Table: false
Edit Fields Info: null
Ownership Based AccessControl For Rasters: null
Child Resources:
Info
Histograms
Statistics
Key Properties
Legend
Raster Function Infos
Supported Operations:
Export Image
Identify
Measure
Compute Histograms
Compute Statistics Histograms
Get Samples
Compute Class Statistics
Query Boundary
Compute Pixel Location
Compute Angles
Validate
Project