View In:
ArcGIS JavaScript
ArcGIS Online Map Viewer
ArcGIS Earth
ArcMap
View Footprint In:
ArcGIS Online Map Viewer
Service Description: Historical map of Niagara Falls, Stamford and Chippawa (early 1900).
Name: EarlyNiagara/NiagaraFalls1900s
Description: Historical map of Niagara Falls, Stamford and Chippawa (early 1900).
Single Fused Map Cache: false
Extent:
XMin: 652797.938262213
YMin: 4767508.287991936
XMax: 659398.155754213
YMax: 4777634.477185937
Spatial Reference: 26917
(26917)
Initial Extent:
XMin: 652797.938262213
YMin: 4767508.287991936
XMax: 659398.155754213
YMax: 4777634.477185937
Spatial Reference: 26917
(26917)
Full Extent:
XMin: 652797.938262213
YMin: 4767508.287991936
XMax: 659398.155754213
YMax: 4777634.477185937
Spatial Reference: 26917
(26917)
Pixel Size X: 1.1407219999999942
Pixel Size Y: 1.1407220000000367
Band Count: 1
Pixel Type: U16
RasterFunction Infos: {"rasterFunctionInfos": [{
"name": "None",
"description": "",
"help": ""
}]}
Mensuration Capabilities: Basic
Has Histograms: true
Has Colormap: false
Has Multi Dimensions : false
Rendering Rule:
Min Scale: 0
Max Scale: 0
Copyright Text: Brock University Maps, Data & GIS
Service Data Type: esriImageServiceDataTypeGeneric
Min Values: 30
Max Values: 255
Mean Values: 211.67337678978
Standard Deviation Values: 56.531730963191
Object ID Field:
Fields:
None
Default Mosaic Method: Center
Allowed Mosaic Methods:
SortField:
SortValue: null
Mosaic Operator: First
Default Compression Quality: 75
Default Resampling Method: Bilinear
Max Record Count: null
Max Image Height: 4100
Max Image Width: 15000
Max Download Image Count: null
Max Mosaic Image Count: null
Allow Raster Function: true
Allow Copy: true
Allow Analysis: true
Allow Compute TiePoints: false
Supports Statistics: false
Supports Advanced Queries: false
Use StandardizedQueries: true
Raster Type Infos:
Name: Raster Dataset
Description: Supports all ArcGIS Raster Datasets
Help:
Has Raster Attribute Table: false
Edit Fields Info: null
Ownership Based AccessControl For Rasters: null
Child Resources:
Info
Histograms
Statistics
Key Properties
Legend
Raster Function Infos
Supported Operations:
Export Image
Identify
Measure
Compute Histograms
Compute Statistics Histograms
Get Samples
Compute Class Statistics
Query Boundary
Compute Pixel Location
Compute Angles
Validate
Project