View In:
ArcGIS JavaScript
ArcGIS Online Map Viewer
ArcGIS Earth
ArcMap
View Footprint In:
ArcGIS Online Map Viewer
Service Description: Maps showing streets and points of interest. Relief shown by hachures. Oriented with north to the right. Panel title. "6-66". Includes indexes. On verso: panel, index, key map to scenic tour, indexed for points of interest, tourist information and rural streets information. Village of Chippawa -- Niagara Falls.
Name: EarlyNiagara/NiagaraFalls1966
Description: Maps showing streets and points of interest. Relief shown by hachures. Oriented with north to the right. Panel title. "6-66". Includes indexes. On verso: panel, index, key map to scenic tour, indexed for points of interest, tourist information and rural streets information. Village of Chippawa -- Niagara Falls.
Single Fused Map Cache: false
Extent:
XMin: 650924.5998321098
YMin: 4767277.126210446
XMax: 658656.4057662314
YMax: 4777438.115450875
Spatial Reference: 26917
(26917)
Initial Extent:
XMin: 650924.5998321098
YMin: 4767277.126210446
XMax: 658656.4057662314
YMax: 4777438.115450875
Spatial Reference: 26917
(26917)
Full Extent:
XMin: 650924.5998321098
YMin: 4767277.126210446
XMax: 658656.4057662314
YMax: 4777438.115450875
Spatial Reference: 26917
(26917)
Pixel Size X: 0.7883966487327011
Pixel Size Y: 1.4613820279633776
Band Count: 1
Pixel Type: U8
RasterFunction Infos: {"rasterFunctionInfos": [{
"name": "None",
"description": "",
"help": ""
}]}
Mensuration Capabilities: Basic
Has Histograms: true
Has Colormap: false
Has Multi Dimensions : false
Rendering Rule:
Min Scale: 0
Max Scale: 0
Copyright Text: Brock University Map, Data & GIS Library
Service Data Type: esriImageServiceDataTypeGeneric
Min Values: 0
Max Values: 255
Mean Values: 235.31684280966
Standard Deviation Values: 51.209155340851
Object ID Field:
Fields:
None
Default Mosaic Method: Center
Allowed Mosaic Methods:
SortField:
SortValue: null
Mosaic Operator: First
Default Compression Quality: 75
Default Resampling Method: Bilinear
Max Record Count: null
Max Image Height: 4100
Max Image Width: 15000
Max Download Image Count: null
Max Mosaic Image Count: null
Allow Raster Function: true
Allow Copy: true
Allow Analysis: true
Allow Compute TiePoints: false
Supports Statistics: false
Supports Advanced Queries: false
Use StandardizedQueries: true
Raster Type Infos:
Name: Raster Dataset
Description: Supports all ArcGIS Raster Datasets
Help:
Has Raster Attribute Table: false
Edit Fields Info: null
Ownership Based AccessControl For Rasters: null
Child Resources:
Info
Histograms
Statistics
Key Properties
Legend
Raster Function Infos
Supported Operations:
Export Image
Identify
Measure
Compute Histograms
Compute Statistics Histograms
Get Samples
Compute Class Statistics
Query Boundary
Compute Pixel Location
Compute Angles
Validate
Project