View In:
ArcGIS JavaScript
ArcGIS Online Map Viewer
ArcGIS Earth
ArcMap
View Footprint In:
ArcGIS Online Map Viewer
Service Description: Maps showing streets and points of interest. Relief shown by hachures. Oriented with north to the right. Panel title. "6-66". Includes indexes. On verso: panel, index, key map to scenic tour, indexed for points of interest, tourist information and rural streets information. Village of Chippawa -- Niagara Falls.
Name: EarlyNiagara/NiagaraFalls1966Chippewa
Description: Maps showing streets and points of interest. Relief shown by hachures. Oriented with north to the right. Panel title. "6-66". Includes indexes. On verso: panel, index, key map to scenic tour, indexed for points of interest, tourist information and rural streets information. Village of Chippawa -- Niagara Falls.
Single Fused Map Cache: false
Extent:
XMin: 656980.0050946219
YMin: 4767889.377265068
XMax: 660229.2122393992
YMax: 4770178.846960238
Spatial Reference: 26917
(26917)
Initial Extent:
XMin: 656980.0050946219
YMin: 4767889.377265068
XMax: 660229.2122393992
YMax: 4770178.846960238
Spatial Reference: 26917
(26917)
Full Extent:
XMin: 656980.0050946219
YMin: 4767889.377265068
XMax: 660229.2122393992
YMax: 4770178.846960238
Spatial Reference: 26917
(26917)
Pixel Size X: 1.3855894007579064
Pixel Size Y: 0.6436518681952235
Band Count: 3
Pixel Type: U8
RasterFunction Infos: {"rasterFunctionInfos": [{
"name": "None",
"description": "",
"help": ""
}]}
Mensuration Capabilities: Basic
Has Histograms: false
Has Colormap: false
Has Multi Dimensions : false
Rendering Rule:
Min Scale: 0
Max Scale: 0
Copyright Text: Brock University Map, Data & GIS
Service Data Type: esriImageServiceDataTypeThematic
Min Values: N/A
Max Values: N/A
Mean Values: N/A
Standard Deviation Values: N/A
Object ID Field:
Fields:
None
Default Mosaic Method: Center
Allowed Mosaic Methods:
SortField:
SortValue: null
Mosaic Operator: First
Default Compression Quality: 75
Default Resampling Method: Bilinear
Max Record Count: null
Max Image Height: 4100
Max Image Width: 15000
Max Download Image Count: null
Max Mosaic Image Count: null
Allow Raster Function: true
Allow Copy: true
Allow Analysis: true
Allow Compute TiePoints: false
Supports Statistics: false
Supports Advanced Queries: false
Use StandardizedQueries: true
Raster Type Infos:
Name: Raster Dataset
Description: Supports all ArcGIS Raster Datasets
Help:
Has Raster Attribute Table: false
Edit Fields Info: null
Ownership Based AccessControl For Rasters: null
Child Resources:
Info
Statistics
Key Properties
Legend
Raster Function Infos
Supported Operations:
Export Image
Identify
Measure
Compute Histograms
Compute Statistics Histograms
Get Samples
Compute Class Statistics
Query Boundary
Compute Pixel Location
Compute Angles
Validate
Project