View In:
ArcGIS JavaScript
ArcGIS Online Map Viewer
ArcGIS Earth
ArcMap
View Footprint In:
ArcGIS Online Map Viewer
Service Description: Map showing streets, railways, fences, walls, bridges, sidewalks, buildings, rivers, treed areas, legend. Relief shown by contours and spot heights. Oriented with north to the right. "File: 68-N-4"
Name: EarlyNiagara/NiagaraFalls1968_QueenVictoriaPark
Description: Map showing streets, railways, fences, walls, bridges, sidewalks, buildings, rivers, treed areas, legend. Relief shown by contours and spot heights. Oriented with north to the right. "File: 68-N-4"
Single Fused Map Cache: false
Extent:
XMin: 656047.4766128119
YMin: 4771404.574695925
XMax: 657050.3166297115
YMax: 4772637.692349065
Spatial Reference: 26917
(26917)
Initial Extent:
XMin: 656047.4766128119
YMin: 4771404.574695925
XMax: 657050.3166297115
YMax: 4772637.692349065
Spatial Reference: 26917
(26917)
Full Extent:
XMin: 656047.4766128119
YMin: 4771404.574695925
XMax: 657050.3166297115
YMax: 4772637.692349065
Spatial Reference: 26917
(26917)
Pixel Size X: 0.09364459957975818
Pixel Size Y: 0.1742429918242005
Band Count: 1
Pixel Type: U8
RasterFunction Infos: {"rasterFunctionInfos": [{
"name": "None",
"description": "",
"help": ""
}]}
Mensuration Capabilities: Basic
Has Histograms: true
Has Colormap: false
Has Multi Dimensions : false
Rendering Rule:
Min Scale: 0
Max Scale: 0
Copyright Text: Brock University Map, Data & GIS Library
Service Data Type: esriImageServiceDataTypeGeneric
Min Values: 0
Max Values: 255
Mean Values: 225.43110281919
Standard Deviation Values: 30.698605454987
Object ID Field:
Fields:
None
Default Mosaic Method: Center
Allowed Mosaic Methods:
SortField:
SortValue: null
Mosaic Operator: First
Default Compression Quality: 75
Default Resampling Method: Bilinear
Max Record Count: null
Max Image Height: 4100
Max Image Width: 15000
Max Download Image Count: null
Max Mosaic Image Count: null
Allow Raster Function: true
Allow Copy: true
Allow Analysis: true
Allow Compute TiePoints: false
Supports Statistics: false
Supports Advanced Queries: false
Use StandardizedQueries: true
Raster Type Infos:
Name: Raster Dataset
Description: Supports all ArcGIS Raster Datasets
Help:
Has Raster Attribute Table: false
Edit Fields Info: null
Ownership Based AccessControl For Rasters: null
Child Resources:
Info
Histograms
Statistics
Key Properties
Legend
Raster Function Infos
Supported Operations:
Export Image
Identify
Measure
Compute Histograms
Compute Statistics Histograms
Get Samples
Compute Class Statistics
Query Boundary
Compute Pixel Location
Compute Angles
Validate
Project