View In:
ArcGIS JavaScript
ArcGIS Online Map Viewer
ArcGIS Earth
ArcMap
View Footprint In:
ArcGIS Online Map Viewer
Service Description: Historical map showing buildings, roads, military land, reserve land and Niagara Falls.
Surveyed by John Stegman.
"Copy J.G. Chewett, Surveyor General's Office, 17th May 1836"
Digital reproduction of map (25 1/4 x 63 in.) in the Public Archives of Canada. National Map Collection. Library and Archives Canada.
Relief shown by shading
Georeferenced and modified from NMC Map number 22196 by Map, Data and GIS Library, Brock University.
Name: EarlyNiagara/NiagaraFallsChippawa1797NMC22196
Description: Historical map showing buildings, roads, military land, reserve land and Niagara Falls.
Surveyed by John Stegman.
"Copy J.G. Chewett, Surveyor General's Office, 17th May 1836"
Digital reproduction of map (25 1/4 x 63 in.) in the Public Archives of Canada. National Map Collection. Library and Archives Canada.
Relief shown by shading
Georeferenced and modified from NMC Map number 22196 by Map, Data and GIS Library, Brock University.
Single Fused Map Cache: false
Extent:
XMin: -8804191.480552286
YMin: 5320311.169047235
XMax: -8799259.145452285
YMax: 5325070.188697235
Spatial Reference: 102100
(3857)
Initial Extent:
XMin: -8804191.480552286
YMin: 5320311.169047235
XMax: -8799259.145452285
YMax: 5325070.188697235
Spatial Reference: 102100
(3857)
Full Extent:
XMin: -8804191.480552286
YMin: 5320311.169047235
XMax: -8799259.145452285
YMax: 5325070.188697235
Spatial Reference: 102100
(3857)
Pixel Size X: 0.7950250000001168
Pixel Size Y: 0.7950250000000246
Band Count: 1
Pixel Type: U16
RasterFunction Infos: {"rasterFunctionInfos": [{
"name": "None",
"description": "",
"help": ""
}]}
Mensuration Capabilities: Basic
Has Histograms: true
Has Colormap: false
Has Multi Dimensions : false
Rendering Rule:
Min Scale: 0
Max Scale: 0
Copyright Text: Map, Data & GIS Library, Brock University.
Service Data Type: esriImageServiceDataTypeGeneric
Min Values: 0
Max Values: 255
Mean Values: 155.16437306624
Standard Deviation Values: 38.762987872221
Object ID Field:
Fields:
None
Default Mosaic Method: Center
Allowed Mosaic Methods:
SortField:
SortValue: null
Mosaic Operator: First
Default Compression Quality: 75
Default Resampling Method: Bilinear
Max Record Count: null
Max Image Height: 4100
Max Image Width: 15000
Max Download Image Count: null
Max Mosaic Image Count: null
Allow Raster Function: true
Allow Copy: true
Allow Analysis: true
Allow Compute TiePoints: false
Supports Statistics: false
Supports Advanced Queries: false
Use StandardizedQueries: true
Raster Type Infos:
Name: Raster Dataset
Description: Supports all ArcGIS Raster Datasets
Help:
Has Raster Attribute Table: false
Edit Fields Info: null
Ownership Based AccessControl For Rasters: null
Child Resources:
Info
Histograms
Statistics
Key Properties
Legend
Raster Function Infos
Supported Operations:
Export Image
Identify
Measure
Compute Histograms
Compute Statistics Histograms
Get Samples
Compute Class Statistics
Query Boundary
Compute Pixel Location
Compute Angles
Validate
Project