View In:
ArcGIS JavaScript
ArcGIS Online Map Viewer
ArcGIS Earth
ArcMap
View Footprint In:
ArcGIS Online Map Viewer
Service Description: Map showing streets, railroad and lot numbers. "Drawn by K.R. Shank April 16 - 57" Oriented with north to the top right.
Name: EarlyNiagara/NiagaraFalls_Chippawa1957
Description: Map showing streets, railroad and lot numbers. "Drawn by K.R. Shank April 16 - 57" Oriented with north to the top right.
Single Fused Map Cache: false
Extent:
XMin: 655420.493570555
YMin: 4766609.019395205
XMax: 660907.026653523
YMax: 4771865.031496667
Spatial Reference: 26917
(26917)
Initial Extent:
XMin: 655420.493570555
YMin: 4766609.019395205
XMax: 660907.026653523
YMax: 4771865.031496667
Spatial Reference: 26917
(26917)
Full Extent:
XMin: 655420.493570555
YMin: 4766609.019395205
XMax: 660907.026653523
YMax: 4771865.031496667
Spatial Reference: 26917
(26917)
Pixel Size X: 0.779005123238389
Pixel Size Y: 0.7341824418860331
Band Count: 3
Pixel Type: U8
RasterFunction Infos: {"rasterFunctionInfos": [{
"name": "None",
"description": "",
"help": ""
}]}
Mensuration Capabilities: Basic
Has Histograms: true
Has Colormap: false
Has Multi Dimensions : false
Rendering Rule:
Min Scale: 0
Max Scale: 0
Copyright Text: Brock University Map, Data & GIS Library
Service Data Type: esriImageServiceDataTypeRGB
Min Values: 0, 0, 0
Max Values: 255, 255, 255
Mean Values: 194.48666625663, 202.87549548216, 208.96238293304
Standard Deviation Values: 35.167451129238, 35.544695771141, 35.767246297609
Object ID Field:
Fields:
None
Default Mosaic Method: Center
Allowed Mosaic Methods:
SortField:
SortValue: null
Mosaic Operator: First
Default Compression Quality: 75
Default Resampling Method: Bilinear
Max Record Count: null
Max Image Height: 4100
Max Image Width: 15000
Max Download Image Count: null
Max Mosaic Image Count: null
Allow Raster Function: true
Allow Copy: true
Allow Analysis: true
Allow Compute TiePoints: false
Supports Statistics: false
Supports Advanced Queries: false
Use StandardizedQueries: true
Raster Type Infos:
Name: Raster Dataset
Description: Supports all ArcGIS Raster Datasets
Help:
Has Raster Attribute Table: false
Edit Fields Info: null
Ownership Based AccessControl For Rasters: null
Child Resources:
Info
Histograms
Statistics
Key Properties
Legend
Raster Function Infos
Supported Operations:
Export Image
Identify
Measure
Compute Histograms
Compute Statistics Histograms
Get Samples
Compute Class Statistics
Query Boundary
Compute Pixel Location
Compute Angles
Validate
Project