View In:
ArcGIS JavaScript
ArcGIS Online Map Viewer
ArcGIS Earth
ArcMap
View Footprint In:
ArcGIS Online Map Viewer
Service Description: Scanned historical map of Queen Victoria Niagara Falls Park, 1888
Name: EarlyNiagara/NiagaraFallspark1888
Description: Scanned historical map of Queen Victoria Niagara Falls Park, 1888
Single Fused Map Cache: false
Extent:
XMin: 655973.6011716613
YMin: 4769800.818223384
XMax: 657705.3839456612
YMax: 4772959.329507384
Spatial Reference: 26917
(26917)
Initial Extent:
XMin: 655973.6011716613
YMin: 4769800.818223384
XMax: 657705.3839456612
YMax: 4772959.329507384
Spatial Reference: 26917
(26917)
Full Extent:
XMin: 655973.6011716613
YMin: 4769800.818223384
XMax: 657705.3839456612
YMax: 4772959.329507384
Spatial Reference: 26917
(26917)
Pixel Size X: 0.8568939999999816
Pixel Size Y: 0.8568940000000652
Band Count: 3
Pixel Type: U16
RasterFunction Infos: {"rasterFunctionInfos": [{
"name": "None",
"description": "",
"help": ""
}]}
Mensuration Capabilities: Basic
Has Histograms: true
Has Colormap: false
Has Multi Dimensions : false
Rendering Rule:
Min Scale: 0
Max Scale: 0
Copyright Text:
Service Data Type: esriImageServiceDataTypeGeneric
Min Values: 0, 0, 0
Max Values: 255, 249, 210
Mean Values: 196.97695089668, 200.52882868868, 133.96227780855
Standard Deviation Values: 48.580266682691, 42.796387959159, 49.467060783491
Object ID Field:
Fields:
None
Default Mosaic Method: Center
Allowed Mosaic Methods:
SortField:
SortValue: null
Mosaic Operator: First
Default Compression Quality: 75
Default Resampling Method: Bilinear
Max Record Count: null
Max Image Height: 4100
Max Image Width: 15000
Max Download Image Count: null
Max Mosaic Image Count: null
Allow Raster Function: true
Allow Copy: true
Allow Analysis: true
Allow Compute TiePoints: false
Supports Statistics: false
Supports Advanced Queries: false
Use StandardizedQueries: true
Raster Type Infos:
Name: Raster Dataset
Description: Supports all ArcGIS Raster Datasets
Help:
Has Raster Attribute Table: false
Edit Fields Info: null
Ownership Based AccessControl For Rasters: null
Child Resources:
Info
Histograms
Statistics
Key Properties
Legend
Raster Function Infos
Supported Operations:
Export Image
Identify
Measure
Compute Histograms
Compute Statistics Histograms
Get Samples
Compute Class Statistics
Query Boundary
Compute Pixel Location
Compute Angles
Validate
Project