View In:
ArcGIS JavaScript
ArcGIS Online Map Viewer
ArcGIS Earth
ArcMap
View Footprint In:
ArcGIS Online Map Viewer
Service Description: Historical map showing geological, road, transportation and hydrological features, buildings.
Digital reproduction of map (118 x 44 cm.) in the Public Archives of Canada. National Map Collection. Library and Archives Canada.
Relief shown by contours and spot heights
Georeferenced and modified by Map, Data and GIS Library, Brock University.
Name: EarlyNiagara/NiagaraGorgeGeology1913
Description: Historical map showing geological, road, transportation and hydrological features, buildings.
Digital reproduction of map (118 x 44 cm.) in the Public Archives of Canada. National Map Collection. Library and Archives Canada.
Relief shown by contours and spot heights
Georeferenced and modified by Map, Data and GIS Library, Brock University.
Single Fused Map Cache: false
Extent:
XMin: 654589.8001615483
YMin: 4768093.473237873
XMax: 661571.6859955483
YMax: 4783539.656787873
Spatial Reference: 26917
(26917)
Initial Extent:
XMin: 654589.8001615483
YMin: 4768093.473237873
XMax: 661571.6859955483
YMax: 4783539.656787873
Spatial Reference: 26917
(26917)
Full Extent:
XMin: 654589.8001615483
YMin: 4768093.473237873
XMax: 661571.6859955483
YMax: 4783539.656787873
Spatial Reference: 26917
(26917)
Pixel Size X: 1.0543469999999935
Pixel Size Y: 1.054347000000013
Band Count: 3
Pixel Type: U16
RasterFunction Infos: {"rasterFunctionInfos": [{
"name": "None",
"description": "",
"help": ""
}]}
Mensuration Capabilities: Basic
Has Histograms: true
Has Colormap: false
Has Multi Dimensions : false
Rendering Rule:
Min Scale: 0
Max Scale: 0
Copyright Text: "Topographic base surveyed in cooperation, United States Geological Survey, Geological Survey of Canada"Geology by Frank B. Taylor and E.M. Kindle.Map, Data & GIS Library, Brock University.
Service Data Type: esriImageServiceDataTypeGeneric
Min Values: 0, 0, 0
Max Values: 255, 255, 255
Mean Values: 202.26910559845, 192.0359271658, 171.4149600397
Standard Deviation Values: 43.222725599081, 43.887134062282, 41.3544797457
Object ID Field:
Fields:
None
Default Mosaic Method: Center
Allowed Mosaic Methods:
SortField:
SortValue: null
Mosaic Operator: First
Default Compression Quality: 75
Default Resampling Method: Bilinear
Max Record Count: null
Max Image Height: 4100
Max Image Width: 15000
Max Download Image Count: null
Max Mosaic Image Count: null
Allow Raster Function: true
Allow Copy: true
Allow Analysis: true
Allow Compute TiePoints: false
Supports Statistics: false
Supports Advanced Queries: false
Use StandardizedQueries: true
Raster Type Infos:
Name: Raster Dataset
Description: Supports all ArcGIS Raster Datasets
Help:
Has Raster Attribute Table: false
Edit Fields Info: null
Ownership Based AccessControl For Rasters: null
Child Resources:
Info
Histograms
Statistics
Key Properties
Legend
Raster Function Infos
Supported Operations:
Export Image
Identify
Measure
Compute Histograms
Compute Statistics Histograms
Get Samples
Compute Class Statistics
Query Boundary
Compute Pixel Location
Compute Angles
Validate
Project