View In:
ArcGIS JavaScript
ArcGIS Online Map Viewer
ArcGIS Earth
ArcMap
View Footprint In:
ArcGIS Online Map Viewer
Service Description: Historical map of the Niagara Peninsula showing Niagara Peninsula Conservation Authority boundary features, townships, villages, towns and cities.
Georeferenced and modified by Map, Data and GIS Library, Brock University.
Name: EarlyNiagara/NiagaraNPCA1955
Description: Historical map of the Niagara Peninsula showing Niagara Peninsula Conservation Authority boundary features, townships, villages, towns and cities.
Georeferenced and modified by Map, Data and GIS Library, Brock University.
Single Fused Map Cache: false
Extent:
XMin: -8908505.237943681
YMin: 5270630.349871238
XMax: -8778380.67143568
YMax: 5358170.466381238
Spatial Reference: 102100
(3857)
Initial Extent:
XMin: -8908505.237943681
YMin: 5270630.349871238
XMax: -8778380.67143568
YMax: 5358170.466381238
Spatial Reference: 102100
(3857)
Full Extent:
XMin: -8908505.237943681
YMin: 5270630.349871238
XMax: -8778380.67143568
YMax: 5358170.466381238
Spatial Reference: 102100
(3857)
Pixel Size X: 32.48241800000018
Pixel Size Y: 32.48241800000003
Band Count: 3
Pixel Type: U16
RasterFunction Infos: {"rasterFunctionInfos": [{
"name": "None",
"description": "",
"help": ""
}]}
Mensuration Capabilities: Basic
Has Histograms: true
Has Colormap: false
Has Multi Dimensions : false
Rendering Rule:
Min Scale: 0
Max Scale: 0
Copyright Text: Map, Data & GIS Library, Brock University.
Service Data Type: esriImageServiceDataTypeGeneric
Min Values: 0, 0, 0
Max Values: 255, 255, 255
Mean Values: 231.67721498916, 222.93843957014, 202.93385767299
Standard Deviation Values: 32.137521857346, 36.631135113581, 34.805474253631
Object ID Field:
Fields:
None
Default Mosaic Method: Center
Allowed Mosaic Methods:
SortField:
SortValue: null
Mosaic Operator: First
Default Compression Quality: 75
Default Resampling Method: Bilinear
Max Record Count: null
Max Image Height: 4100
Max Image Width: 15000
Max Download Image Count: null
Max Mosaic Image Count: null
Allow Raster Function: true
Allow Copy: true
Allow Analysis: true
Allow Compute TiePoints: false
Supports Statistics: false
Supports Advanced Queries: false
Use StandardizedQueries: true
Raster Type Infos:
Name: Raster Dataset
Description: Supports all ArcGIS Raster Datasets
Help:
Has Raster Attribute Table: false
Edit Fields Info: null
Ownership Based AccessControl For Rasters: null
Child Resources:
Info
Histograms
Statistics
Key Properties
Legend
Raster Function Infos
Supported Operations:
Export Image
Identify
Measure
Compute Histograms
Compute Statistics Histograms
Get Samples
Compute Class Statistics
Query Boundary
Compute Pixel Location
Compute Angles
Validate
Project