View In:
ArcGIS JavaScript
ArcGIS Online Map Viewer
ArcGIS Earth
ArcMap
View Footprint In:
ArcGIS Online Map Viewer
Service Description: Historical map showing the Niagara Peninsula with proposed routes for the First Welland Canal, feeder canals, township boundaries, rivers, creeks, forts, escarpment.
Digital reproduction of map in the Public Archives of Canada. National Map Collection. Library and Archives Canada.
Relief shown pictorially.
Georeferenced and modified from NMC Map number 3005 by Map, Data and GIS Library, Brock University.
Name: EarlyNiagara/NiagaraPeninsula1826NMC3005
Description: Historical map showing the Niagara Peninsula with proposed routes for the First Welland Canal, feeder canals, township boundaries, rivers, creeks, forts, escarpment.
Digital reproduction of map in the Public Archives of Canada. National Map Collection. Library and Archives Canada.
Relief shown pictorially.
Georeferenced and modified from NMC Map number 3005 by Map, Data and GIS Library, Brock University.
Single Fused Map Cache: false
Extent:
XMin: 576795.0663283844
YMin: 4736130.724828929
XMax: 686296.1648283844
YMax: 4809224.043456929
Spatial Reference: 26917
(26917)
Initial Extent:
XMin: 576795.0663283844
YMin: 4736130.724828929
XMax: 686296.1648283844
YMax: 4809224.043456929
Spatial Reference: 26917
(26917)
Full Extent:
XMin: 576795.0663283844
YMin: 4736130.724828929
XMax: 686296.1648283844
YMax: 4809224.043456929
Spatial Reference: 26917
(26917)
Pixel Size X: 21.36606799999999
Pixel Size Y: 21.366068000000027
Band Count: 1
Pixel Type: U16
RasterFunction Infos: {"rasterFunctionInfos": [{
"name": "None",
"description": "",
"help": ""
}]}
Mensuration Capabilities: Basic
Has Histograms: true
Has Colormap: false
Has Multi Dimensions : false
Rendering Rule:
Min Scale: 0
Max Scale: 0
Copyright Text: Map, Data & GIS Library, Brock University.
Service Data Type: esriImageServiceDataTypeGeneric
Min Values: 0
Max Values: 251
Mean Values: 176.10936080282
Standard Deviation Values: 36.494770021598
Object ID Field:
Fields:
None
Default Mosaic Method: Center
Allowed Mosaic Methods:
SortField:
SortValue: null
Mosaic Operator: First
Default Compression Quality: 75
Default Resampling Method: Bilinear
Max Record Count: null
Max Image Height: 4100
Max Image Width: 15000
Max Download Image Count: null
Max Mosaic Image Count: null
Allow Raster Function: true
Allow Copy: true
Allow Analysis: true
Allow Compute TiePoints: false
Supports Statistics: false
Supports Advanced Queries: false
Use StandardizedQueries: true
Raster Type Infos:
Name: Raster Dataset
Description: Supports all ArcGIS Raster Datasets
Help:
Has Raster Attribute Table: false
Edit Fields Info: null
Ownership Based AccessControl For Rasters: null
Child Resources:
Info
Histograms
Statistics
Key Properties
Legend
Raster Function Infos
Supported Operations:
Export Image
Identify
Measure
Compute Histograms
Compute Statistics Histograms
Get Samples
Compute Class Statistics
Query Boundary
Compute Pixel Location
Compute Angles
Validate
Project