View In:
ArcGIS JavaScript
ArcGIS Online Map Viewer
ArcGIS Earth
ArcMap
View Footprint In:
ArcGIS Online Map Viewer
Service Description: Map showing towns, roads, mills, taverns, schools, forts, route of the Second Welland Canal, the Niagara Escarpment, swamps and wooded areas.
Alternate title: No. 42 sketch of the Niagara District
Relief shown by shading and hachures.
Ink stamp: Commanding R. Engineer's Office No.95.
Map date: 1840
Scale [1:63,360]
Digital reproduction of map (23 1/4 x 30 in.) in the Public Archives of Canada. National Map Collection. Library and Archives Canada.
Relief shown by shading and hachures.
Georeferenced and modified from NMC Map number 21590 by Map, Data and GIS Library, Brock University.
Name: EarlyNiagara/NiagaraPeninsula1840NMC21590
Description: Map showing towns, roads, mills, taverns, schools, forts, route of the Second Welland Canal, the Niagara Escarpment, swamps and wooded areas.
Alternate title: No. 42 sketch of the Niagara District
Relief shown by shading and hachures.
Ink stamp: Commanding R. Engineer's Office No.95.
Map date: 1840
Scale [1:63,360]
Digital reproduction of map (23 1/4 x 30 in.) in the Public Archives of Canada. National Map Collection. Library and Archives Canada.
Relief shown by shading and hachures.
Georeferenced and modified from NMC Map number 21590 by Map, Data and GIS Library, Brock University.
Single Fused Map Cache: false
Extent:
XMin: 632577.8044592818
YMin: 4742601.944490989
XMax: 674026.9020092818
YMax: 4792262.722720989
Spatial Reference: 26917
(26917)
Initial Extent:
XMin: 632577.8044592818
YMin: 4742601.944490989
XMax: 674026.9020092818
YMax: 4792262.722720989
Spatial Reference: 26917
(26917)
Full Extent:
XMin: 632577.8044592818
YMin: 4742601.944490989
XMax: 674026.9020092818
YMax: 4792262.722720989
Spatial Reference: 26917
(26917)
Pixel Size X: 7.103529999999991
Pixel Size Y: 7.103530000000041
Band Count: 1
Pixel Type: U16
RasterFunction Infos: {"rasterFunctionInfos": [{
"name": "None",
"description": "",
"help": ""
}]}
Mensuration Capabilities: Basic
Has Histograms: true
Has Colormap: false
Has Multi Dimensions : false
Rendering Rule:
Min Scale: 0
Max Scale: 0
Copyright Text: ["cartography"]
Service Data Type: esriImageServiceDataTypeGeneric
Min Values: 22
Max Values: 255
Mean Values: 176.33333542011
Standard Deviation Values: 29.385400246051
Object ID Field:
Fields:
None
Default Mosaic Method: Center
Allowed Mosaic Methods:
SortField:
SortValue: null
Mosaic Operator: First
Default Compression Quality: 75
Default Resampling Method: Bilinear
Max Record Count: null
Max Image Height: 4100
Max Image Width: 15000
Max Download Image Count: null
Max Mosaic Image Count: null
Allow Raster Function: true
Allow Copy: true
Allow Analysis: true
Allow Compute TiePoints: false
Supports Statistics: false
Supports Advanced Queries: false
Use StandardizedQueries: true
Raster Type Infos:
Name: Raster Dataset
Description: Supports all ArcGIS Raster Datasets
Help:
Has Raster Attribute Table: false
Edit Fields Info: null
Ownership Based AccessControl For Rasters: null
Child Resources:
Info
Histograms
Statistics
Key Properties
Legend
Raster Function Infos
Supported Operations:
Export Image
Identify
Measure
Compute Histograms
Compute Statistics Histograms
Get Samples
Compute Class Statistics
Query Boundary
Compute Pixel Location
Compute Angles
Validate
Project