View In:
ArcGIS JavaScript
ArcGIS Online Map Viewer
ArcGIS Earth
ArcMap
View Footprint In:
ArcGIS Online Map Viewer
Service Description: Historical map showing boundaries, railways, rivers, main towns and townships, indian reserves on Grand River, Niagara Frontier.
[Signed by] E.H. Fletcher.
"December 8 - 1866" in bottom right corner.
Digital reproduction of map in the Public Archives of Canada. National Map Collection. Library and Archives Canada.
Georeferenced and modified from NMC Map number 3011 by Map, Data and GIS Library, Brock University.
Name: EarlyNiagara/NiagaraPeninsula1866NMC3011
Description: Historical map showing boundaries, railways, rivers, main towns and townships, indian reserves on Grand River, Niagara Frontier.
[Signed by] E.H. Fletcher.
"December 8 - 1866" in bottom right corner.
Digital reproduction of map in the Public Archives of Canada. National Map Collection. Library and Archives Canada.
Georeferenced and modified from NMC Map number 3011 by Map, Data and GIS Library, Brock University.
Single Fused Map Cache: false
Extent:
XMin: -8964737.819544343
YMin: 5251412.314727008
XMax: -8743504.066904344
YMax: 5405069.746913008
Spatial Reference: 102100
(3857)
Initial Extent:
XMin: -8964737.819544343
YMin: 5251412.314727008
XMax: -8743504.066904344
YMax: 5405069.746913008
Spatial Reference: 102100
(3857)
Full Extent:
XMin: -8964737.819544343
YMin: 5251412.314727008
XMax: -8743504.066904344
YMax: 5405069.746913008
Spatial Reference: 102100
(3857)
Pixel Size X: 29.41938199999995
Pixel Size Y: 29.41938200000001
Band Count: 1
Pixel Type: U16
RasterFunction Infos: {"rasterFunctionInfos": [{
"name": "None",
"description": "",
"help": ""
}]}
Mensuration Capabilities: Basic
Has Histograms: true
Has Colormap: false
Has Multi Dimensions : false
Rendering Rule:
Min Scale: 0
Max Scale: 0
Copyright Text: Map, Data & GIS Library, Brock University.
Service Data Type: esriImageServiceDataTypeGeneric
Min Values: 17
Max Values: 240
Mean Values: 195.36692489431
Standard Deviation Values: 26.287234286335
Object ID Field:
Fields:
None
Default Mosaic Method: Center
Allowed Mosaic Methods:
SortField:
SortValue: null
Mosaic Operator: First
Default Compression Quality: 75
Default Resampling Method: Bilinear
Max Record Count: null
Max Image Height: 4100
Max Image Width: 15000
Max Download Image Count: null
Max Mosaic Image Count: null
Allow Raster Function: true
Allow Copy: true
Allow Analysis: true
Allow Compute TiePoints: false
Supports Statistics: false
Supports Advanced Queries: false
Use StandardizedQueries: true
Raster Type Infos:
Name: Raster Dataset
Description: Supports all ArcGIS Raster Datasets
Help:
Has Raster Attribute Table: false
Edit Fields Info: null
Ownership Based AccessControl For Rasters: null
Child Resources:
Info
Histograms
Statistics
Key Properties
Legend
Raster Function Infos
Supported Operations:
Export Image
Identify
Measure
Compute Histograms
Compute Statistics Histograms
Get Samples
Compute Class Statistics
Query Boundary
Compute Pixel Location
Compute Angles
Validate
Project